Workbook

Sheet Sheet1
A1: 计算机课程实验计划安排表 | L1: 计算机课程实验计划安排表 | W1: 计算机课程实验计划安排表
A2: （2024至2025学年第1学期） 第2 周 | L2: （2024至2025学年第1学期） 第 2 周 | W2: （2024至2025学年第1学期） 第 2 周
C3: 宏博楼108 | D3: 宏博楼202 | E3: 宏博楼206 | F3: 宏博楼208 | G3: 宏博楼209 | H3: 宏博楼210 | I3: 宏博楼212 | J3: 宏博楼301 | K3: 宏博楼302 | N3: 宏博楼303 | O3: 宏博楼304 | P3: 宏博楼305 | Q3: 宏博楼308 | R3: 宏博楼309 | S3: 宏博楼310 | T3: 宏博楼312 | U3: 宏博楼402 | V3: 宏博楼403 | Y3: 宏博楼404 | Z3: 宏博楼406 | AA3: 宏博楼408 | AB3: 宏博楼410 | AC3: 宏博楼515 | AD3: 宏博楼519 | AE3: 516
A4: 周一 | B4: 1-2 | C4: - | D4: 大数据2301 | E4: - | F4: 智能交通2301 | G4: 网络2202 | H4: 软件2201 | I4: 软件2302 | J4: 软件2301 | K4: 电信2301 | L4: 周一 | M4: 1-2 | N4: - | O4: - | P4: 智能交通2202 | Q4: 智能交通2302 | R4: 大数据2202 | S4: - | T4: 大数据2201 | U4: - | V4: 网络2303 | W4: 周一 | X4: 1-2 | Y4: 留学生234 | Z4: 网络2203 | AA4: 网络2301 | AB4: 智能交通2201 | AC4: 通信2201 | AD4: 通信2302
C5: - | D5: 米洪 | E5: - | F5: 张晓焱 | G5: 李莉 | H5: 石丹 | I5: 狄颖 | J5: 史玉龙 | K5: 钱玲 | N5: - | O5: - | P5: 易星 | Q5: 高进 | R5: 卢旻昊 | S5: - | T5: 曹明霖 | U5: - | V5: 宫鼎 | Y5: 孙丹东 | Z5: 王雅琴 | AA5: 张淑梅 | AB5: 石杨 | AC5: 管宇 | AD5: 张开驹
B6: 3-4 | C6: - | D6: 软件2202 | E6: - | F6: 道桥2301 | G6: 网络2202 | H6: 软件2201 | I6: - | J6: - | K6: - | M6: 3-4 | N6: - | O6: - | P6: 智能交通2202 | Q6: 留学生234 | R6: 大数据2202 | S6: - | T6: - | U6: - | V6: - | X6: 3-4 | Y6: - | Z6: 网络2203 | AA6: - | AB6: 智能交通2201 | AC6: 通信2201 | AD6: 道桥2308
C7: - | D7: 张延年 | E7: - | F7: 李扬 | G7: 李莉 | H7: 石丹 | I7: - | J7: - | K7: - | N7: - | O7: - | P7: 易星 | Q7: 高进 | R7: 卢旻昊 | S7: - | T7: - | U7: - | V7: - | Y7: - | Z7: 王雅琴 | AA7: - | AB7: 石杨 | AC7: 管宇 | AD7: 雷小燕
B8: 5-6 | C8: - | D8: 软件2202 | E8: - | F8: - | G8: 网络2202 | H8: - | I8: 软件2302 | J8: 无人机2301 | K8: 电信2302 | M8: 5-6 | N8: - | O8: - | P8: - | Q8: - | R8: - | S8: 大数据2302 | T8: 大数据2201 | U8: 软件2301 | V8: 网络2303 | X8: 5-6 | Y8: 网络2302 | Z8: - | AA8: 网络2301 | AB8: 智能交通2201 | AC8: - | AD8: -
C9: - | D9: 张延年 | E9: - | F9: - | G9: 李莉 | H9: - | I9: 狄颖 | J9: 周鑫 | K9: 钱玲 | N9: - | O9: - | P9: - | Q9: - | R9: - | S9: 李新春 | T9: 曹明霖 | U9: 史玉龙 | V9: 宫鼎 | Y9: 戎戟 | Z9: - | AA9: 张淑梅 | AB9: 石杨 | AC9: - | AD9: -
B10: 7-8 | C10: - | D10: - | E10: - | F10: - | G10: - | H10: - | I10: - | J10: 无人机2301 | K10: 电信2302 | M10: 7-8 | N10: - | O10: - | P10: - | Q10: - | R10: - | T10: - | U10: - | V10: - | X10: 7-8 | Y10: 网络2302 | Z10: - | AA10: - | AB10: - | AC10: - | AD10: -
C11: - | D11: - | E11: - | F11: - | G11: - | H11: - | I11: - | J11: 周鑫 | K11: 钱玲 | N11: - | O11: - | P11: - | Q11: - | R11: - | T11: - | U11: - | V11: - | Y11: 戎戟 | Z11: - | AA11: - | AB11: - | AC11: - | AD11: -
A12: 周二 | B12: 1-2 | C12: - | D12: 大数据2302 | E12: - | F12: 智能交通2202 | G12: 网络2203 | H12: 软件2301 | I12: 大数据2301 | J12: 软件2302 | K12: 大数据2202 | L12: 周二 | M12: 1-2 | N12: - | O12: - | P12: 智能交通2201 | Q12: - | R12: - | S12: 软件2201 | T12: - | U12: - | V12: - | W12: 周二 | X12: 1-2 | Y12: 网络2301 | Z12: - | AA12: - | AB12: 网络2202 | AC12: 通信2301 | AD12: 通信2302
C13: - | D13: 米洪 | E13: - | F13: 吴昊 | G13: 李莉 | H13: 朱兰 | I13: 王宇博 | J13: 赵丹丹 | K13: 曹明霖 | N13: - | O13: - | P13: 易星 | Q13: - | R13: - | S13: 张延年 | T13: - | U13: - | V13: - | Y13: 孙丹东 | Z13: - | AA13: - | AB13: 石杨 | AC13: 王琰 | AD13: 雷小燕
B14: 3-4 | C14: - | D14: 大数据2302 | E14: - | F14: 智能交通2202 | G14: 网络2203 | H14: 软件2301 | I14: 建筑造价2105 | J14: 软件2302 | K14: 大数据2202 | M14: 3-4 | N14: - | O14: - | P14: 智能交通2201 | Q14: 智能交通2301 | R14: - | S14: 软件2201 | T14: 大数据2301 | U14: 道桥2302 | V14: - | X14: 3-4 | Y14: 网络2301 | Z14: - | AA14: - | AB14: 网络2202 | AC14: 通信2301 | AD14: 通信2302
C15: - | D15: 米洪 | E15: - | F15: 吴昊 | G15: 李莉 | H15: 朱兰 | I15: 狄颖 | J15: 赵丹丹 | K15: 曹明霖 | N15: - | O15: - | P15: 易星 | Q15: 高进 | R15: - | S15: 张延年 | T15: 张金凤 | U15: 李扬 | V15: - | Y15: 孙丹东 | Z15: - | AA15: - | AB15: 石杨 | AC15: 王琰 | AD15: 雷小燕
B16: 5-6 | C16: 智能交通2301 | D16: - | E16: - | F16: - | G16: 网络2203 | H16: - | I16: 土木2301 | J16: - | K16: - | M16: 5-6 | N16: - | O16: - | P16: - | Q16: - | R16: - | S16: - | T16: - | U16: - | V16: - | X16: 5-6 | Y16: 道桥2304 | Z16: - | AA16: - | AB16: - | AC16: - | AD16: -
C17: 李涛 | D17: - | E17: - | F17: - | G17: 李莉 | H17: - | I17: 杜宁 | J17: - | K17: - | N17: - | O17: - | P17: - | Q17: - | R17: - | S17: - | T17: - | U17: - | V17: - | Y17: 戎戟 | Z17: - | AA17: - | AB17: - | AC17: - | AD17: -
B18: 7-8 | C18: 智能交通2301 | D18: - | E18: - | F18: - | G18: - | H18: - | I18: 土木2301 | J18: - | K18: - | M18: 7-8 | N18: - | O18: - | P18: - | Q18: - | R18: - | S18: - | U18: - | V18: - | X18: 7-8 | Y18: - | Z18: - | AA18: - | AB18: - | AC18: - | AD18: -
C19: 李涛 | D19: - | E19: - | F19: - | G19: - | H19: - | I19: - | J19: - | K19: - | N19: - | O19: - | P19: - | Q19: - | R19: - | S19: - | U19: - | V19: - | Y19: - | Z19: - | AA19: - | AB19: - | AC19: - | AD19: -
A20: 周三 | B20: 1-2 | C20: - | D20: 大数据2301 | E20: - | F20: 智能交通2201 | G20: 道桥2306 | H20: 软件2201 | I20: 软件2301 | J20: 无人机2301 | K20: 电信2301 | L20: 周三 | M20: 1-2 | N20: - | O20: - | P20: - | Q20: 智能交通2301 | R20: 大数据2201 | S20: 通信2301 | T20: 软件2202 | U20: 软件2302 | V20: 网络2303 | W20: 周三 | X20: 1-2 | Y20: 网络2302 | Z20: 网络2201 | AA20: 网络2303 | AB20: - | AC20: 通信2201 | AD20: 通信2202
C21: - | D21: 米洪 | E21: - | F21: 吴昊 | G21: 翟永健 | H21: 石丹 | I21: 狄颖 | J21: 周鑫 | K21: 钱玲 | N21: - | O21: - | P21: - | Q21: 高进 | R21: 卢旻昊 | S21: 郑莹 | T21: 张延年 | U21: 周颖颖 | V21: 宫鼎 | Y21: 孙丹东 | Z21: 王雅琴 | AA21: 张淑梅 | AB21: - | AC21: 王琰 | AD21: 管宇
B22: 3-4 | C22: - | D22: 大数据2302 | E22: - | F22: 智能交通2201 | G22: 道桥2305 | H22: 软件2201 | I22: 软件2301 | J22: - | K22: 无人机2302 | M22: 3-4 | N22: 智能交通2301 | O22: - | P22: - | Q22: - | R22: 大数据2201 | S22: 大数据2301 | T22: 软件2202 | U22: 软件2302 | V22: 网络2303 | X22: 3-4 | Y22: 网络2302 | Z22: 网络2201 | AA22: 网络2303 | AB22: 网络2202 | AC22: 通信2201 | AD22: 通信2202
C23: - | D23: 张金凤 | E23: - | F23: 吴昊 | G23: 翟永健 | H23: 石丹 | I23: 狄颖 | J23: - | K23: 杜宁 | N23: 朱萍 | O23: - | P23: - | Q23: - | R23: 卢旻昊 | S23: 李新春 | T23: 张延年 | U23: 周颖颖 | V23: 宫鼎 | Y23: 孙丹东 | Z23: 王雅琴 | AA23: 张淑梅 | AB23: 石杨 | AC23: 王琰 | AD23: 管宇
B24: 5-6 | C24: - | D24: - | E24: - | F24: - | G24: - | H24: - | I24: - | J24: - | K24: - | M24: 5-6 | N24: - | O24: - | P24: - | Q24: - | R24: - | S24: - | T24: - | U24: - | V24: - | X24: 5-6 | Y24: - | Z24: - | AA24: - | AB24: - | AC24: - | AD24: -
C25: - | D25: - | E25: - | F25: - | G25: - | H25: - | I25: - | J25: - | K25: - | N25: - | O25: - | P25: - | Q25: - | R25: - | S25: - | T25: - | U25: - | V25: - | Y25: - | Z25: - | AA25: - | AB25: - | AC25: - | AD25: -
B26: 7-8 | C26: - | D26: - | E26: - | F26: - | G26: - | H26: - | I26: - | J26: - | K26: - | M26: 7-8 | N26: - | O26: - | P26: - | Q26: - | R26: - | S26: - | T26: - | U26: - | V26: - | X26: 7-8 | Y26: - | Z26: - | AA26: - | AB26: - | AC26: - | AD26: -
C27: - | D27: - | E27: - | F27: - | G27: - | H27: - | I27: - | J27: - | K27: - | N27: - | O27: - | P27: - | Q27: - | R27: - | S27: - | T27: - | U27: - | V27: - | Y27: - | Z27: - | AA27: - | AB27: - | AC27: - | AD27: -
A28: 周四 | B28: 1-2 | C28: - | D28: 软件2201 | E28: - | F28: 智能交通2302 | G28: 网络2301 | H28: 软件2201 | I28: 无人机2301 | J28: 软件2302 | K28: 大数据2201 | L28: 周四 | M28: 1-2 | N28: - | O28: - | P28: - | Q28: - | R28: 大数据2202 | S28: - | T28: 软件2301 | U28: - | V28: 通信2302 | W28: 周四 | X28: 1-2 | Y28: 网络2303 | Z28: 网络2201 | AA28: 网络2302 | AB28: 网络2203 | AC28: 通信2202 | AD28: 通信2301 | AE28: 通信2201
C29: - | D29: 张延年 | E29: - | F29: 吴昊 | G29: 李莉 | H29: 石丹 | I29: 高水娟 | J29: 朱兰 | K29: 曹明霖 | N29: - | O29: - | P29: - | Q29: - | R29: 卢旻昊 | S29: - | T29: 周颖颖 | U29: - | V29: 郑莹 | Y29: 孙丹东 | Z29: 王雅琴 | AA29: 张淑梅 | AB29: 石杨 | AC29: 王琰 | AD29: 张开驹 | AE29: 顾雪韵
B30: 3-4 | C30: - | D30: 软件2201 | E30: - | F30: - | G30: 网络2301 | H30: 软件2201 | I30: 建筑造价2105 | J30: 软件2302 | K30: - | M30: 3-4 | N30: - | O30: - | P30: - | Q30: - | R30: 大数据2202 | S30: 大数据2301 | T30: 软件2301 | U30: - | V30: 通信2301 | X30: 3-4 | Y30: 网络2303 | Z30: 网络2201 | AA30: 网络2302 | AB30: 网络2203 | AC30: 通信2202 | AD30: 通信2201
C31: - | D31: 张延年 | E31: - | F31: - | G31: 李莉 | H31: 石丹 | I31: 狄颖 | J31: 朱兰 | K31: - | N31: - | O31: - | P31: - | Q31: - | R31: 卢旻昊 | S31: 李新春 | T31: 周颖颖 | U31: - | V31: 郑莹 | Y31: 孙丹东 | Z31: 王雅琴 | AA31: 张淑梅 | AB31: 石杨 | AC31: 王琰 | AD31: 顾雪韵
B32: 5-6 | C32: 智能交通2302 | D32: - | E32: - | F32: 道桥2302 | G32: - | H32: 无人机2301 | I32: 软件2301 | J32: - | K32: 大数据2201 | M32: 5-6 | N32: 智能交通2301 | O32: - | P32: - | Q32: - | R32: - | S32: 大数据2302 | T32: 大数据2301 | U32: - | V32: - | X32: 5-6 | Y32: - | Z32: 道桥2307 | AA32: - | AB32: 网络2203 | AC32: 通信2302 | AD32: 道桥2308
C33: 李涛 | D33: - | E33: - | F33: 李扬 | G33: - | H33: 高水娟 | I33: 郭杰 | J33: - | K33: 曹明霖 | N33: 朱萍 | O33: - | P33: - | Q33: - | R33: - | S33: 李新春 | T33: 张金凤 | U33: - | V33: - | Y33: - | Z33: 张延年 | AA33: - | AB33: 石杨 | AC33: 郑莹 | AD33: 雷小燕
B34: 7-8 | C34: - | D34: - | E34: - | F34: - | G34: - | H34: - | I34: - | J34: - | K34: - | M34: 7-8 | N34: - | O34: - | P34: - | Q34: - | R34: - | S34: - | T34: - | U34: - | V34: - | X34: 7-8 | Y34: - | Z34: - | AA34: - | AB34: - | AC34: - | AD34: -
C35: - | D35: - | E35: - | F35: - | G35: - | H35: - | I35: - | J35: - | K35: - | N35: - | O35: - | P35: - | Q35: - | R35: - | S35: - | T35: - | U35: - | V35: - | Y35: - | Z35: - | AA35: - | AB35: - | AC35: - | AD35: -
A36: 周五 | B36: 1-2 | C36: 智能交通2301 | D36: - | E36: - | F36: 智能交通2302 | G36: 道桥2306 | H36: 软件2201 | I36: 大数据2302 | J36: 软件2302 | K36: 大数据2202 | L36: 周五 | M36: 1-2 | N36: - | O36: - | P36: - | Q36: - | R36: 大数据2201 | S36: - | T36: 无人机2302 | U36: 软件2301 | V36: 网络2302 | W36: 周五 | X36: 1-2 | Y36: 留学生234 | Z36: - | AA36: 网络2303 | AB36: 智能交通2202 | AC36: 通信2302 | AD36: 通信2301 | AE36: 通信2202
C37: 李涛 | D37: - | E37: - | F37: 吴昊 | G37: 翟永健 | H37: 石丹 | I37: 王宇博 | J37: 史玉龙 | K37: 曹明霖 | N37: - | O37: - | P37: - | Q37: - | R37: 卢旻昊 | S37: - | T37: 杜宁 | U37: 郭杰 | V37: 刘奇 | Y37: 张淑梅 | Z37: - | AA37: 戎戟 | AB37: 石杨 | AC37: 王琰 | AD37: 雷小燕 | AE37: 顾雪韵
B38: 3-4 | C38: 智能交通2301 | D38: - | E38: - | F38: - | G38: - | H38: 软件2201 | I38: 大数据2301 | J38: 软件2302 | K38: 大数据2202 | M38: 3-4 | N38: - | O38: - | P38: - | Q38: - | R38: 大数据2201 | S38: - | T38: 大数据2302 | U38: - | V38: 网络2302 | X38: 3-4 | Y38: 留学生234 | Z38: 网络2202 | AA38: 网络2303 | AB38: 智能交通2202 | AC38: 通信2302 | AD38: 通信2301 | AE38: 通信2202
C39: 李涛 | D39: - | E39: - | F39: - | G39: - | H39: 石丹 | I39: 王宇博 | J39: 史玉龙 | K39: 曹明霖 | N39: - | O39: - | P39: - | Q39: - | R39: 卢旻昊 | S39: - | T39: 张金凤 | U39: - | V39: 刘奇 | Y39: 张淑梅 | Z39: 王雅琴 | AA39: 戎戟 | AB39: 石杨 | AC39: 王琰 | AD39: 雷小燕 | AE39: 顾雪韵
B40: 5-6 | C40: - | D40: - | E40: - | F40: 智能交通2301 | G40: - | H40: - | I40: 大数据2302 | J40: 无人机2302 | K40: - | M40: 5-6 | N40: - | O40: - | P40: - | Q40: - | R40: - | S40: - | T40: - | U40: - | V40: - | X40: 5-6 | Y40: - | Z40: - | AA40: - | AB40: 智能交通2202 | AC40: - | AD40: -
C41: - | D41: - | E41: - | F41: 张晓焱 | G41: - | H41: - | I41: 王宇博 | J41: 周鑫 | K41: - | N41: - | O41: - | P41: - | Q41: - | R41: - | S41: - | T41: - | U41: - | V41: - | Y41: - | Z41: - | AA41: - | AB41: 石杨 | AC41: - | AD41: -
B42: 7-8 | C42: - | D42: - | E42: - | F42: - | G42: - | H42: - | I42: - | J42: - | K42: - | M42: 7-8 | N42: - | O42: - | P42: - | Q42: - | R42: - | S42: - | T42: - | U42: - | V42: - | X42: 7-8 | Y42: - | Z42: - | AA42: - | AB42: - | AC42: - | AD42: -
C43: - | D43: - | E43: - | F43: - | G43: - | H43: - | I43: - | J43: - | K43: - | N43: - | O43: - | P43: - | Q43: - | R43: - | S43: - | T43: - | U43: - | V43: - | Y43: - | Z43: - | AA43: - | AB43: - | AC43: - | AD43: -

Sheet 宏博楼108
A1: 宏博楼108
A2: =Sheet1!A2 -> （2024至2025学年第1学期） 第2 周
B3: 星期一 | C3: 星期二 | D3: 星期三 | E3: 星期四 | F3: 星期五
A4: 1-2 | B4: =Sheet1!C4 -> - | C4: =Sheet1!C12 -> - | D4: =Sheet1!C20 -> - | E4: =Sheet1!C28 -> - | F4: =Sheet1!C36 -> 智能交通2301
B5: =Sheet1!C5 -> - | C5: =Sheet1!C13 -> - | D5: =Sheet1!C21 -> - | E5: =Sheet1!C29 -> - | F5: =Sheet1!C37 -> 李涛
A6: 3-4 | B6: =Sheet1!C6 -> - | C6: =Sheet1!C14 -> - | D6: =Sheet1!C22 -> - | E6: =Sheet1!C30 -> - | F6: =Sheet1!C38 -> 智能交通2301
B7: =Sheet1!C7 -> - | C7: =Sheet1!C15 -> - | D7: =Sheet1!C23 -> - | E7: =Sheet1!C31 -> - | F7: =Sheet1!C39 -> 李涛
A8: 5-6 | B8: =Sheet1!C8 -> - | C8: =Sheet1!C16 -> 智能交通2301 | D8: =Sheet1!C24 -> - | E8: =Sheet1!C32 -> 智能交通2302 | F8: =Sheet1!C40 -> -
B9: =Sheet1!C9 -> - | C9: =Sheet1!C17 -> 李涛 | D9: =Sheet1!C25 -> - | E9: =Sheet1!C33 -> 李涛 | F9: =Sheet1!C41 -> -
A10: 7-8 | B10: =Sheet1!C10 -> - | C10: =Sheet1!C18 -> 智能交通2301 | D10: =Sheet1!C26 -> - | E10: =Sheet1!C34 -> - | F10: =Sheet1!C42 -> -
B11: =Sheet1!C11 -> - | C11: =Sheet1!C19 -> 李涛 | D11: =Sheet1!C27 -> - | E11: =Sheet1!C35 -> - | F11: =Sheet1!C43 -> -
A12: 晚自习

Sheet 宏博楼202
A1: 宏博楼202
A2: =Sheet1!A2 -> （2024至2025学年第1学期） 第2 周
B3: 星期一 | C3: 星期二 | D3: 星期三 | E3: 星期四 | F3: 星期五
A4: 1-2 | B4: =Sheet1!D4 -> 大数据2301 | C4: =Sheet1!D12 -> 大数据2302 | D4: =Sheet1!D20 -> 大数据2301 | E4: =Sheet1!D28 -> 软件2201 | F4: =Sheet1!D36 -> -
B5: =Sheet1!D5 -> 米洪 | C5: =Sheet1!D13 -> 米洪 | D5: =Sheet1!D21 -> 米洪 | E5: =Sheet1!D29 -> 张延年 | F5: =Sheet1!D37 -> -
A6: 3-4 | B6: =Sheet1!D6 -> 软件2202 | C6: =Sheet1!D14 -> 大数据2302 | D6: =Sheet1!D22 -> 大数据2302 | E6: =Sheet1!D30 -> 软件2201 | F6: =Sheet1!D38 -> -
B7: =Sheet1!D7 -> 张延年 | C7: =Sheet1!D15 -> 米洪 | D7: =Sheet1!D23 -> 张金凤 | E7: =Sheet1!D31 -> 张延年 | F7: =Sheet1!D39 -> -
A8: 5-6 | B8: =Sheet1!D8 -> 软件2202 | C8: =Sheet1!D16 -> - | D8: =Sheet1!D24 -> - | E8: =Sheet1!D32 -> - | F8: =Sheet1!D40 -> -
B9: =Sheet1!D9 -> 张延年 | C9: =Sheet1!D17 -> - | D9: =Sheet1!D25 -> - | E9: =Sheet1!D33 -> - | F9: =Sheet1!D41 -> -
A10: 7-8 | B10: =Sheet1!D10 -> - | C10: =Sheet1!D18 -> - | D10: =Sheet1!D26 -> - | E10: =Sheet1!D34 -> - | F10: =Sheet1!D42 -> -
B11: =Sheet1!D11 -> - | C11: =Sheet1!D19 -> - | D11: =Sheet1!D27 -> - | E11: =Sheet1!D35 -> - | F11: =Sheet1!D43 -> -
A12: 晚自习

Sheet 宏博楼206
A1: 宏博楼206
A2: =Sheet1!A2 -> （2024至2025学年第1学期） 第2 周
B3: 星期一 | C3: 星期二 | D3: 星期三 | E3: 星期四 | F3: 星期五
A4: 1-2 | B4: =Sheet1!E4 -> - | C4: =Sheet1!E12 -> - | D4: =Sheet1!E20 -> - | E4: =Sheet1!E28 -> - | F4: =Sheet1!E36 -> -
B5: =Sheet1!E5 -> - | C5: =Sheet1!E13 -> - | D5: =Sheet1!E21 -> - | E5: =Sheet1!E29 -> - | F5: =Sheet1!E37 -> -
A6: 3-4 | B6: =Sheet1!E6 -> - | C6: =Sheet1!E14 -> - | D6: =Sheet1!E22 -> - | E6: =Sheet1!E30 -> - | F6: =Sheet1!E38 -> -
B7: =Sheet1!E7 -> - | C7: =Sheet1!E15 -> - | D7: =Sheet1!E23 -> - | E7: =Sheet1!E31 -> - | F7: =Sheet1!E39 -> -
A8: 5-6 | B8: =Sheet1!E8 -> - | C8: =Sheet1!E16 -> - | D8: =Sheet1!E24 -> - | E8: =Sheet1!E32 -> - | F8: =Sheet1!E40 -> -
B9: =Sheet1!E9 -> - | C9: =Sheet1!E17 -> - | D9: =Sheet1!E25 -> - | E9: =Sheet1!E33 -> - | F9: =Sheet1!E41 -> -
A10: 7-8 | B10: =Sheet1!E10 -> - | C10: =Sheet1!E18 -> - | D10: =Sheet1!E26 -> - | E10: =Sheet1!E34 -> - | F10: =Sheet1!E42 -> -
B11: =Sheet1!E11 -> - | C11: =Sheet1!E19 -> - | D11: =Sheet1!E27 -> - | E11: =Sheet1!E35 -> - | F11: =Sheet1!E43 -> -
A12: 晚自习

Sheet 宏博楼208
A1: 宏博楼208
A2: =Sheet1!A2 -> （2024至2025学年第1学期） 第2 周
B3: 星期一 | C3: 星期二 | D3: 星期三 | E3: 星期四 | F3: 星期五
A4: 1-2 | B4: =Sheet1!F4 -> 智能交通2301 | C4: =Sheet1!F12 -> 智能交通2202 | D4: =Sheet1!F20 -> 智能交通2201 | E4: =Sheet1!F28 -> 智能交通2302 | F4: =Sheet1!F36 -> 智能交通2302
B5: =Sheet1!F5 -> 张晓焱 | C5: =Sheet1!F13 -> 吴昊 | D5: =Sheet1!F21 -> 吴昊 | E5: =Sheet1!F29 -> 吴昊 | F5: =Sheet1!F37 -> 吴昊
A6: 3-4 | B6: =Sheet1!F6 -> 道桥2301 | C6: =Sheet1!F14 -> 智能交通2202 | D6: =Sheet1!F22 -> 智能交通2201 | E6: =Sheet1!F30 -> - | F6: =Sheet1!F38 -> -
B7: =Sheet1!F7 -> 李扬 | C7: =Sheet1!F15 -> 吴昊 | D7: =Sheet1!F23 -> 吴昊 | E7: =Sheet1!F31 -> - | F7: =Sheet1!F39 -> -
A8: 5-6 | B8: =Sheet1!F8 -> - | C8: =Sheet1!F16 -> - | D8: =Sheet1!F24 -> - | E8: =Sheet1!F32 -> 道桥2302 | F8: =Sheet1!F40 -> 智能交通2301
B9: =Sheet1!F9 -> - | C9: =Sheet1!F17 -> - | D9: =Sheet1!F25 -> - | E9: =Sheet1!F33 -> 李扬 | F9: =Sheet1!F41 -> 张晓焱
A10: 7-8 | B10: =Sheet1!F10 -> - | C10: =Sheet1!F18 -> - | D10: =Sheet1!F26 -> - | E10: =Sheet1!F34 -> - | F10: =Sheet1!F42 -> -
B11: =Sheet1!F11 -> - | C11: =Sheet1!F19 -> - | D11: =Sheet1!F27 -> - | E11: =Sheet1!F35 -> - | F11: =Sheet1!F43 -> -
A12: 晚自习

Sheet 宏博楼209
A1: 宏博楼209
A2: =Sheet1!A2 -> （2024至2025学年第1学期） 第2 周
B3: 星期一 | C3: 星期二 | D3: 星期三 | E3: 星期四 | F3: 星期五
A4: 1-2 | B4: =Sheet1!G4 -> 网络2202 | C4: =Sheet1!G12 -> 网络2203 | D4: =Sheet1!G20 -> 道桥2306 | E4: =Sheet1!G28 -> 网络2301 | F4: =Sheet1!G36 -> 道桥2306
B5: =Sheet1!G5 -> 李莉 | C5: =Sheet1!G13 -> 李莉 | D5: =Sheet1!G21 -> 翟永健 | E5: =Sheet1!G29 -> 李莉 | F5: =Sheet1!G37 -> 翟永健
A6: 3-4 | B6: =Sheet1!G6 -> 网络2202 | C6: =Sheet1!G14 -> 网络2203 | D6: =Sheet1!G22 -> 道桥2305 | E6: =Sheet1!G30 -> 网络2301 | F6: =Sheet1!G38 -> -
B7: =Sheet1!G7 -> 李莉 | C7: =Sheet1!G15 -> 李莉 | D7: =Sheet1!G23 -> 翟永健 | E7: =Sheet1!G31 -> 李莉 | F7: =Sheet1!G39 -> -
A8: 5-6 | B8: =Sheet1!G8 -> 网络2202 | C8: =Sheet1!G16 -> 网络2203 | D8: =Sheet1!G24 -> - | E8: =Sheet1!G32 -> - | F8: =Sheet1!G40 -> -
B9: =Sheet1!G9 -> 李莉 | C9: =Sheet1!G17 -> 李莉 | D9: =Sheet1!G25 -> - | E9: =Sheet1!G33 -> - | F9: =Sheet1!G41 -> -
A10: 7-8 | B10: =Sheet1!G10 -> - | C10: =Sheet1!G18 -> - | D10: =Sheet1!G26 -> - | E10: =Sheet1!G34 -> - | F10: =Sheet1!G42 -> -
B11: =Sheet1!G11 -> - | C11: =Sheet1!G19 -> - | D11: =Sheet1!G27 -> - | E11: =Sheet1!G35 -> - | F11: =Sheet1!G43 -> -
A12: 晚自习

Sheet 宏博楼210
A1: 宏博楼210
A2: =Sheet1!A2 -> （2024至2025学年第1学期） 第2 周
B3: 星期一 | C3: 星期二 | D3: 星期三 | E3: 星期四 | F3: 星期五
A4: 1-2 | B4: =Sheet1!H4 -> 软件2201 | C4: =Sheet1!H12 -> 软件2301 | D4: =Sheet1!H20 -> 软件2201 | E4: =Sheet1!H28 -> 软件2201 | F4: =Sheet1!H36 -> 软件2201
B5: =Sheet1!H5 -> 石丹 | C5: =Sheet1!H13 -> 朱兰 | D5: =Sheet1!H21 -> 石丹 | E5: =Sheet1!H29 -> 石丹 | F5: =Sheet1!H37 -> 石丹
A6: 3-4 | B6: =Sheet1!H6 -> 软件2201 | C6: =Sheet1!H14 -> 软件2301 | D6: =Sheet1!H22 -> 软件2201 | E6: =Sheet1!H30 -> 软件2201 | F6: =Sheet1!H38 -> 软件2201
B7: =Sheet1!H7 -> 石丹 | C7: =Sheet1!H15 -> 朱兰 | D7: =Sheet1!H23 -> 石丹 | E7: =Sheet1!H31 -> 石丹 | F7: =Sheet1!H39 -> 石丹
A8: 5-6 | B8: =Sheet1!H8 -> - | C8: =Sheet1!H16 -> - | D8: =Sheet1!H24 -> - | E8: =Sheet1!H32 -> 无人机2301 | F8: =Sheet1!H40 -> -
B9: =Sheet1!H9 -> - | C9: =Sheet1!H17 -> - | D9: =Sheet1!H25 -> - | E9: =Sheet1!H33 -> 高水娟 | F9: =Sheet1!H41 -> -
A10: 7-8 | B10: =Sheet1!H10 -> - | C10: =Sheet1!H18 -> - | D10: =Sheet1!H26 -> - | E10: =Sheet1!H34 -> - | F10: =Sheet1!H42 -> -
B11: =Sheet1!H11 -> - | C11: =Sheet1!H19 -> - | D11: =Sheet1!H27 -> - | E11: =Sheet1!H35 -> - | F11: =Sheet1!H43 -> -
A12: 晚自习

Sheet 宏博楼212
A1: 宏博楼212
A2: =Sheet1!A2 -> （2024至2025学年第1学期） 第2 周
B3: 星期一 | C3: 星期二 | D3: 星期三 | E3: 星期四 | F3: 星期五
A4: 1-2 | B4: =Sheet1!I4 -> 软件2302 | C4: =Sheet1!I12 -> 大数据2301 | D4: =Sheet1!I20 -> 软件2301 | E4: =Sheet1!I28 -> 无人机2301 | F4: =Sheet1!I36 -> 大数据2302
B5: =Sheet1!I5 -> 狄颖 | C5: =Sheet1!I13 -> 王宇博 | D5: =Sheet1!I21 -> 狄颖 | E5: =Sheet1!I29 -> 高水娟 | F5: =Sheet1!I37 -> 王宇博
A6: 3-4 | B6: =Sheet1!I6 -> - | C6: =Sheet1!I14 -> 建筑造价2105 | D6: =Sheet1!I22 -> 软件2301 | E6: =Sheet1!I30 -> 建筑造价2105 | F6: =Sheet1!I38 -> 大数据2301
B7: =Sheet1!I7 -> - | C7: =Sheet1!I15 -> 狄颖 | D7: =Sheet1!I23 -> 狄颖 | E7: =Sheet1!I31 -> 狄颖 | F7: =Sheet1!I39 -> 王宇博
A8: 5-6 | B8: =Sheet1!I8 -> 软件2302 | C8: =Sheet1!I16 -> 土木2301 | D8: =Sheet1!I24 -> - | E8: =Sheet1!I32 -> 软件2301 | F8: =Sheet1!I40 -> 大数据2302
B9: =Sheet1!I9 -> 狄颖 | C9: =Sheet1!I17 -> 杜宁 | D9: =Sheet1!I25 -> - | E9: =Sheet1!I33 -> 郭杰 | F9: =Sheet1!I41 -> 王宇博
A10: 7-8 | B10: =Sheet1!I10 -> - | C10: =Sheet1!I18 -> 土木2301 | D10: =Sheet1!I26 -> - | E10: =Sheet1!I34 -> - | F10: =Sheet1!I42 -> -
B11: =Sheet1!I11 -> - | C11: =Sheet1!I19 -> - | D11: =Sheet1!I27 -> - | E11: =Sheet1!I35 -> - | F11: =Sheet1!I43 -> -
A12: 晚自习

Sheet 宏博楼301
A1: 宏博楼301
A2: =Sheet1!A2 -> （2024至2025学年第1学期） 第2 周
B3: 星期一 | C3: 星期二 | D3: 星期三 | E3: 星期四 | F3: 星期五
A4: 1-2 | B4: =Sheet1!J4 -> 软件2301 | C4: =Sheet1!J12 -> 软件2302 | D4: =Sheet1!J20 -> 无人机2301 | E4: =Sheet1!J28 -> 软件2302 | F4: =Sheet1!J36 -> 软件2302
B5: =Sheet1!J5 -> 史玉龙 | C5: =Sheet1!J13 -> 赵丹丹 | D5: =Sheet1!J21 -> 周鑫 | E5: =Sheet1!J29 -> 朱兰 | F5: =Sheet1!J37 -> 史玉龙
A6: 3-4 | B6: =Sheet1!J6 -> - | C6: =Sheet1!J14 -> 软件2302 | D6: =Sheet1!J22 -> - | E6: =Sheet1!J30 -> 软件2302 | F6: =Sheet1!J38 -> 软件2302
B7: =Sheet1!J7 -> - | C7: =Sheet1!J15 -> 赵丹丹 | D7: =Sheet1!J23 -> - | E7: =Sheet1!J31 -> 朱兰 | F7: =Sheet1!J39 -> 史玉龙
A8: 5-6 | B8: =Sheet1!J8 -> 无人机2301 | C8: =Sheet1!J16 -> - | D8: =Sheet1!J24 -> - | E8: =Sheet1!J32 -> - | F8: =Sheet1!J40 -> 无人机2302
B9: =Sheet1!J9 -> 周鑫 | C9: =Sheet1!J17 -> - | D9: =Sheet1!J25 -> - | E9: =Sheet1!J33 -> - | F9: =Sheet1!J41 -> 周鑫
A10: 7-8 | B10: =Sheet1!J10 -> 无人机2301 | C10: =Sheet1!J18 -> - | D10: =Sheet1!J26 -> - | E10: =Sheet1!J34 -> - | F10: =Sheet1!J42 -> -
B11: =Sheet1!J11 -> 周鑫 | C11: =Sheet1!J19 -> - | D11: =Sheet1!J27 -> - | E11: =Sheet1!J35 -> - | F11: =Sheet1!J43 -> -
A12: 晚自习

Sheet 宏博楼302
A1: 宏博楼302
A2: =Sheet1!A2 -> （2024至2025学年第1学期） 第2 周
B3: 星期一 | C3: 星期二 | D3: 星期三 | E3: 星期四 | F3: 星期五
A4: 1-2 | B4: =Sheet1!K4 -> 电信2301 | C4: =Sheet1!K12 -> 大数据2202 | D4: =Sheet1!K20 -> 电信2301 | E4: =Sheet1!K28 -> 大数据2201 | F4: =Sheet1!K36 -> 大数据2202
B5: =Sheet1!K5 -> 钱玲 | C5: =Sheet1!K13 -> 曹明霖 | D5: =Sheet1!K21 -> 钱玲 | E5: =Sheet1!K29 -> 曹明霖 | F5: =Sheet1!K37 -> 曹明霖
A6: 3-4 | B6: =Sheet1!K6 -> - | C6: =Sheet1!K14 -> 大数据2202 | D6: =Sheet1!K22 -> 无人机2302 | E6: =Sheet1!K30 -> - | F6: =Sheet1!K38 -> 大数据2202
B7: =Sheet1!K7 -> - | C7: =Sheet1!K15 -> 曹明霖 | D7: =Sheet1!K23 -> 杜宁 | E7: =Sheet1!K31 -> - | F7: =Sheet1!K39 -> 曹明霖
A8: 5-6 | B8: =Sheet1!K8 -> 电信2302 | C8: =Sheet1!K16 -> - | D8: =Sheet1!K24 -> - | E8: =Sheet1!K32 -> 大数据2201 | F8: =Sheet1!K40 -> -
B9: =Sheet1!K9 -> 钱玲 | C9: =Sheet1!K17 -> - | D9: =Sheet1!K25 -> - | E9: =Sheet1!K33 -> 曹明霖 | F9: =Sheet1!K41 -> -
A10: 7-8 | B10: =Sheet1!K10 -> 电信2302 | C10: =Sheet1!K18 -> - | D10: =Sheet1!K26 -> - | E10: =Sheet1!K34 -> - | F10: =Sheet1!K42 -> -
B11: =Sheet1!K11 -> 钱玲 | C11: =Sheet1!K19 -> - | D11: =Sheet1!K27 -> - | E11: =Sheet1!K35 -> - | F11: =Sheet1!K43 -> -
A12: 晚自习

Sheet 宏博楼303
A1: 宏博楼303
A2: =Sheet1!L2 -> （2024至2025学年第1学期） 第 2 周
B3: 星期一 | C3: 星期二 | D3: 星期三 | E3: 星期四 | F3: 星期五
A4: 1-2 | B4: =Sheet1!N4 -> - | C4: =Sheet1!N12 -> - | D4: =Sheet1!N20 -> - | E4: =Sheet1!N28 -> - | F4: =Sheet1!N36 -> -
B5: =Sheet1!N5 -> - | C5: =Sheet1!N13 -> - | D5: =Sheet1!N21 -> - | E5: =Sheet1!N29 -> - | F5: =Sheet1!N37 -> -
A6: 3-4 | B6: =Sheet1!N6 -> - | C6: =Sheet1!N14 -> - | D6: =Sheet1!N22 -> 智能交通2301 | E6: =Sheet1!N30 -> - | F6: =Sheet1!N38 -> -
B7: =Sheet1!N7 -> - | C7: =Sheet1!N15 -> - | D7: =Sheet1!N23 -> 朱萍 | E7: =Sheet1!N31 -> - | F7: =Sheet1!N39 -> -
A8: 5-6 | B8: =Sheet1!N8 -> - | C8: =Sheet1!N16 -> - | D8: =Sheet1!N24 -> - | E8: =Sheet1!N32 -> 智能交通2301 | F8: =Sheet1!N40 -> -
B9: =Sheet1!N9 -> - | C9: =Sheet1!N17 -> - | D9: =Sheet1!N25 -> - | E9: =Sheet1!N33 -> 朱萍 | F9: =Sheet1!N41 -> -
A10: 7-8 | B10: =Sheet1!N10 -> - | C10: =Sheet1!N18 -> - | D10: =Sheet1!N26 -> - | E10: =Sheet1!N34 -> - | F10: =Sheet1!N42 -> -
B11: =Sheet1!N11 -> - | C11: =Sheet1!N19 -> - | D11: =Sheet1!N27 -> - | E11: =Sheet1!N35 -> - | F11: =Sheet1!N43 -> -
A12: 晚自习

Sheet 宏博楼304
A1: 宏博楼304
A2: =Sheet1!L2 -> （2024至2025学年第1学期） 第 2 周
B3: 星期一 | C3: 星期二 | D3: 星期三 | E3: 星期四 | F3: 星期五
A4: 1-2 | B4: =Sheet1!O4 -> - | C4: =Sheet1!O12 -> - | D4: =Sheet1!O20 -> - | E4: =Sheet1!O28 -> - | F4: =Sheet1!O36 -> -
B5: =Sheet1!O5 -> - | C5: =Sheet1!O13 -> - | D5: =Sheet1!O21 -> - | E5: =Sheet1!O29 -> - | F5: =Sheet1!O37 -> -
A6: 3-4 | B6: =Sheet1!O6 -> - | C6: =Sheet1!O14 -> - | D6: =Sheet1!O22 -> - | E6: =Sheet1!O30 -> - | F6: =Sheet1!O38 -> -
B7: =Sheet1!O7 -> - | C7: =Sheet1!O15 -> - | D7: =Sheet1!O23 -> - | E7: =Sheet1!O31 -> - | F7: =Sheet1!O39 -> -
A8: 5-6 | B8: =Sheet1!O8 -> - | C8: =Sheet1!O16 -> - | D8: =Sheet1!O24 -> - | E8: =Sheet1!O32 -> - | F8: =Sheet1!O40 -> -
B9: =Sheet1!O9 -> - | C9: =Sheet1!O17 -> - | D9: =Sheet1!O26 -> - | E9: =Sheet1!O33 -> - | F9: =Sheet1!O41 -> -
A10: 7-8 | B10: =Sheet1!O10 -> - | C10: =Sheet1!O18 -> - | D10: =Sheet1!O26 -> - | E10: =Sheet1!O34 -> - | F10: =Sheet1!O42 -> -
B11: =Sheet1!O11 -> - | C11: - | D11: =Sheet1!O27 -> - | E11: =Sheet1!O35 -> - | F11: =Sheet1!O43 -> -
A12: 晚自习

Sheet 宏博楼305
A1: 宏博楼305
A2: =Sheet1!L2 -> （2024至2025学年第1学期） 第 2 周
B3: 星期一 | C3: 星期二 | D3: 星期三 | E3: 星期四 | F3: 星期五
A4: 1-2 | B4: =Sheet1!P4 -> 智能交通2202 | C4: =Sheet1!P12 -> 智能交通2201 | D4: =Sheet1!P20 -> - | E4: =Sheet1!P28 -> - | F4: =Sheet1!P36 -> -
B5: =Sheet1!P5 -> 易星 | C5: =Sheet1!P13 -> 易星 | D5: =Sheet1!P21 -> - | E5: =Sheet1!P29 -> - | F5: =Sheet1!P37 -> -
A6: 3-4 | B6: =Sheet1!P6 -> 智能交通2202 | C6: =Sheet1!P14 -> 智能交通2201 | D6: =Sheet1!P22 -> - | E6: =Sheet1!P30 -> - | F6: =Sheet1!P38 -> -
B7: =Sheet1!P7 -> 易星 | C7: =Sheet1!P15 -> 易星 | D7: =Sheet1!P23 -> - | E7: =Sheet1!P31 -> - | F7: =Sheet1!P39 -> -
A8: 5-6 | B8: =Sheet1!P8 -> - | C8: =Sheet1!P16 -> - | D8: =Sheet1!P24 -> - | E8: =Sheet1!P32 -> - | F8: =Sheet1!P40 -> -
B9: =Sheet1!P9 -> - | C9: =Sheet1!O16 -> - | D9: =Sheet1!P25 -> - | E9: =Sheet1!P33 -> - | F9: =Sheet1!P41 -> -
A10: 7-8 | B10: =Sheet1!P10 -> - | C10: =Sheet1!P18 -> - | D10: =Sheet1!P26 -> - | E10: =Sheet1!P34 -> - | F10: =Sheet1!P42 -> -
B11: =Sheet1!P11 -> - | C11: =Sheet1!P19 -> - | D11: =Sheet1!P27 -> - | E11: =Sheet1!P35 -> - | F11: =Sheet1!P43 -> -
A12: 晚自习

Sheet 宏博楼308
A1: 宏博楼308
A2: =Sheet1!L2 -> （2024至2025学年第1学期） 第 2 周
B3: 星期一 | C3: 星期二 | D3: 星期三 | E3: 星期四 | F3: 星期五
A4: 1-2 | B4: =Sheet1!Q4 -> 智能交通2302 | C4: =Sheet1!Q12 -> - | D4: =Sheet1!Q22 -> - | E4: =Sheet1!Q28 -> - | F4: =Sheet1!Q36 -> -
B5: =Sheet1!Q5 -> 高进 | C5: =Sheet1!Q13 -> - | D5: =Sheet1!Q23 -> - | E5: =Sheet1!Q29 -> - | F5: =Sheet1!Q37 -> -
A6: 3-4 | B6: =Sheet1!Q6 -> 留学生234 | C6: =Sheet1!Q14 -> 智能交通2301 | D6: =Sheet1!Q22 -> - | E6: =Sheet1!Q30 -> - | F6: =Sheet1!Q38 -> -
B7: =Sheet1!Q7 -> 高进 | C7: =Sheet1!Q15 -> 高进 | D7: =Sheet1!Q23 -> - | E7: =Sheet1!Q31 -> - | F7: =Sheet1!Q39 -> -
A8: 5-6 | B8: =Sheet1!Q8 -> - | C8: =Sheet1!Q16 -> - | D8: =Sheet1!Q24 -> - | E8: =Sheet1!Q32 -> - | F8: =Sheet1!Q40 -> -
B9: =Sheet1!Q9 -> - | C9: =Sheet1!Q17 -> - | D9: =Sheet1!Q25 -> - | E9: =Sheet1!Q33 -> - | F9: =Sheet1!Q41 -> -
A10: 7-8 | B10: =Sheet1!Q10 -> - | C10: =Sheet1!Q18 -> - | D10: =Sheet1!Q26 -> - | E10: =Sheet1!Q34 -> - | F10: =Sheet1!Q42 -> -
B11: =Sheet1!Q11 -> - | C11: =Sheet1!Q19 -> - | D11: =Sheet1!Q27 -> - | E11: =Sheet1!Q35 -> - | F11: =Sheet1!Q43 -> -
A12: 晚自习

Sheet 宏博楼309
A1: 宏博楼309
A2: =Sheet1!L2 -> （2024至2025学年第1学期） 第 2 周
B3: 星期一 | C3: 星期二 | D3: 星期三 | E3: 星期四 | F3: 星期五
A4: 1-2 | B4: =Sheet1!R4 -> 大数据2202 | C4: =Sheet1!R12 -> - | D4: =Sheet1!R20 -> 大数据2201 | E4: =Sheet1!R28 -> 大数据2202 | F4: =Sheet1!R36 -> 大数据2201
B5: =Sheet1!R5 -> 卢旻昊 | C5: =Sheet1!R13 -> - | D5: =Sheet1!R21 -> 卢旻昊 | E5: =Sheet1!R29 -> 卢旻昊 | F5: =Sheet1!R37 -> 卢旻昊
A6: 3-4 | B6: =Sheet1!R6 -> 大数据2202 | C6: =Sheet1!R14 -> - | D6: =Sheet1!R22 -> 大数据2201 | E6: =Sheet1!R30 -> 大数据2202 | F6: =Sheet1!R38 -> 大数据2201
B7: =Sheet1!R7 -> 卢旻昊 | C7: =Sheet1!R15 -> - | D7: =Sheet1!R23 -> 卢旻昊 | E7: =Sheet1!R31 -> 卢旻昊 | F7: =Sheet1!R39 -> 卢旻昊
A8: 5-6 | B8: =Sheet1!R8 -> - | C8: =Sheet1!R16 -> - | D8: =Sheet1!R24 -> - | E8: =Sheet1!R32 -> - | F8: =Sheet1!R40 -> -
B9: =Sheet1!R9 -> - | C9: =Sheet1!R17 -> - | D9: =Sheet1!R25 -> - | E9: =Sheet1!R33 -> - | F9: =Sheet1!R41 -> -
A10: 7-8 | B10: =Sheet1!R10 -> - | C10: =Sheet1!R18 -> - | D10: =Sheet1!R26 -> - | E10: =Sheet1!R34 -> - | F10: =Sheet1!R42 -> -
B11: =Sheet1!R11 -> - | C11: =Sheet1!R19 -> - | D11: =Sheet1!R27 -> - | E11: =Sheet1!R35 -> - | F11: =Sheet1!R43 -> -
A12: 晚自习

Sheet 宏博楼310
A1: 宏博楼310
A2: =Sheet1!L2 -> （2024至2025学年第1学期） 第 2 周
B3: 星期一 | C3: 星期二 | D3: 星期三 | E3: 星期四 | F3: 星期五
A4: 1-2 | B4: =Sheet1!S4 -> - | C4: =Sheet1!S12 -> 软件2201 | D4: =Sheet1!S22 -> 大数据2301 | E4: =Sheet1!S28 -> - | F4: =Sheet1!S36 -> -
B5: =Sheet1!S5 -> - | C5: =Sheet1!S13 -> 张延年 | D5: =Sheet1!S23 -> 李新春 | E5: =Sheet1!S29 -> - | F5: =Sheet1!S37 -> -
A6: 3-4 | B6: =Sheet1!S6 -> - | C6: =Sheet1!S14 -> 软件2201 | D6: =Sheet1!S22 -> 大数据2301 | E6: =Sheet1!S30 -> 大数据2301 | F6: =Sheet1!S38 -> -
B7: =Sheet1!S7 -> - | C7: =Sheet1!S15 -> 张延年 | D7: =Sheet1!S23 -> 李新春 | E7: =Sheet1!S31 -> 李新春 | F7: =Sheet1!S39 -> -
A8: 5-6 | B8: =Sheet1!S8 -> 大数据2302 | C8: =Sheet1!S16 -> - | D8: =Sheet1!S24 -> - | E8: =Sheet1!S32 -> 大数据2302 | F8: =Sheet1!S40 -> -
B9: =Sheet1!S9 -> 李新春 | C9: =Sheet1!S17 -> - | D9: =Sheet1!S25 -> - | E9: =Sheet1!S33 -> 李新春 | F9: =Sheet1!S41 -> -
A10: 7-8 | B10: =Sheet1!S10 -> 0 | C10: =Sheet1!S18 -> - | D10: =Sheet1!S26 -> - | E10: =Sheet1!S34 -> - | F10: =Sheet1!S42 -> -
B11: =Sheet1!S11 -> 0 | C11: =Sheet1!S19 -> - | D11: =Sheet1!S27 -> - | E11: =Sheet1!S35 -> - | F11: =Sheet1!S43 -> -
A12: 晚自习

Sheet 宏博楼312
A1: 宏博楼312
A2: =Sheet1!L2 -> （2024至2025学年第1学期） 第 2 周
B3: 星期一 | C3: 星期二 | D3: 星期三 | E3: 星期四 | F3: 星期五
A4: 1-2 | B4: =Sheet1!T4 -> 大数据2201 | C4: =Sheet1!T12 -> - | D4: =Sheet1!T20 -> 软件2202 | E4: =Sheet1!T28 -> 软件2301 | F4: =Sheet1!T36 -> 无人机2302
B5: =Sheet1!T5 -> 曹明霖 | C5: =Sheet1!T13 -> - | D5: =Sheet1!T21 -> 张延年 | E5: =Sheet1!T29 -> 周颖颖 | F5: =Sheet1!T37 -> 杜宁
A6: 3-4 | B6: =Sheet1!T6 -> - | C6: =Sheet1!T14 -> 大数据2301 | D6: =Sheet1!T22 -> 软件2202 | E6: =Sheet1!T30 -> 软件2301 | F6: =Sheet1!T38 -> 大数据2302
B7: =Sheet1!T7 -> - | C7: =Sheet1!T15 -> 张金凤 | D7: =Sheet1!T23 -> 张延年 | E7: =Sheet1!T31 -> 周颖颖 | F7: =Sheet1!T39 -> 张金凤
A8: 5-6 | B8: =Sheet1!T8 -> 大数据2201 | C8: =Sheet1!T16 -> - | D8: =Sheet1!T24 -> - | E8: =Sheet1!T32 -> 大数据2301 | F8: =Sheet1!T40 -> -
B9: =Sheet1!T9 -> 曹明霖 | C9: =Sheet1!T17 -> - | D9: =Sheet1!T25 -> - | E9: =Sheet1!T33 -> 张金凤 | F9: =Sheet1!T41 -> -
A10: 7-8 | B10: =Sheet1!T10 -> - | C10: =Sheet1!T18 -> 0 | D10: =Sheet1!T26 -> - | E10: =Sheet1!T34 -> - | F10: =Sheet1!T42 -> -
B11: =Sheet1!T11 -> - | C11: =Sheet1!T19 -> 0 | D11: =Sheet1!T27 -> - | E11: =Sheet1!T35 -> - | F11: =Sheet1!T43 -> -
A12: 晚自习

Sheet 宏博楼402
A1: 宏博楼402
A2: =Sheet1!L2 -> （2024至2025学年第1学期） 第 2 周
B3: 星期一 | C3: 星期二 | D3: 星期三 | E3: 星期四 | F3: 星期五
A4: 1-2 | B4: =Sheet1!U4 -> - | C4: =Sheet1!U12 -> - | D4: =Sheet1!U20 -> 软件2302 | E4: =Sheet1!U28 -> - | F4: =Sheet1!U36 -> 软件2301
B5: =Sheet1!U5 -> - | C5: =Sheet1!U13 -> - | D5: =Sheet1!U21 -> 周颖颖 | E5: =Sheet1!U29 -> - | F5: =Sheet1!U37 -> 郭杰
A6: 3-4 | B6: =Sheet1!U6 -> - | C6: =Sheet1!U14 -> 道桥2302 | D6: =Sheet1!U22 -> 软件2302 | E6: =Sheet1!U30 -> - | F6: =Sheet1!U38 -> -
B7: =Sheet1!U7 -> - | C7: =Sheet1!U15 -> 李扬 | D7: =Sheet1!U23 -> 周颖颖 | E7: =Sheet1!U31 -> - | F7: =Sheet1!U39 -> -
A8: 5-6 | B8: =Sheet1!U8 -> 软件2301 | C8: =Sheet1!U16 -> - | D8: =Sheet1!U24 -> - | E8: =Sheet1!U32 -> - | F8: =Sheet1!U40 -> -
B9: =Sheet1!U9 -> 史玉龙 | C9: =Sheet1!U17 -> - | D9: =Sheet1!U25 -> - | E9: =Sheet1!U33 -> - | F9: =Sheet1!U41 -> -
A10: 7-8 | B10: =Sheet1!U10 -> - | C10: =Sheet1!U18 -> - | D10: =Sheet1!U26 -> - | E10: =Sheet1!U34 -> - | F10: =Sheet1!U42 -> -
B11: =Sheet1!U11 -> - | C11: =Sheet1!U19 -> - | D11: =Sheet1!U27 -> - | E11: =Sheet1!U35 -> - | F11: =Sheet1!U43 -> -
A12: 晚自习

Sheet 宏博楼403
A1: 宏博楼403
A2: =Sheet1!L2 -> （2024至2025学年第1学期） 第 2 周
B3: 星期一 | C3: 星期二 | D3: 星期三 | E3: 星期四 | F3: 星期五
A4: 1-2 | B4: =Sheet1!V4 -> 网络2303 | C4: =Sheet1!V12 -> - | D4: =Sheet1!V20 -> 网络2303 | E4: =Sheet1!V28 -> 通信2302 | F4: =Sheet1!V36 -> 网络2302
B5: =Sheet1!V5 -> 宫鼎 | C5: =Sheet1!V13 -> - | D5: =Sheet1!V21 -> 宫鼎 | E5: =Sheet1!V29 -> 郑莹 | F5: =Sheet1!V37 -> 刘奇
A6: 3-4 | B6: =Sheet1!V6 -> - | C6: =Sheet1!V14 -> - | D6: =Sheet1!V22 -> 网络2303 | E6: =Sheet1!V30 -> 通信2301 | F6: =Sheet1!V38 -> 网络2302
B7: =Sheet1!V7 -> - | C7: =Sheet1!V15 -> - | D7: =Sheet1!V23 -> 宫鼎 | E7: =Sheet1!V31 -> 郑莹 | F7: =Sheet1!V39 -> 刘奇
A8: 5-6 | B8: =Sheet1!V8 -> 网络2303 | C8: =Sheet1!V16 -> - | D8: =Sheet1!V24 -> - | E8: =Sheet1!V32 -> - | F8: =Sheet1!V40 -> -
B9: =Sheet1!V9 -> 宫鼎 | C9: =Sheet1!V17 -> - | D9: =Sheet1!V25 -> - | E9: =Sheet1!V33 -> - | F9: =Sheet1!V41 -> -
A10: 7-8 | B10: =Sheet1!V10 -> - | C10: =Sheet1!V18 -> - | D10: =Sheet1!V26 -> - | E10: =Sheet1!V34 -> - | F10: =Sheet1!V42 -> -
B11: =Sheet1!V11 -> - | C11: =Sheet1!V19 -> - | D11: =Sheet1!V27 -> - | E11: =Sheet1!V35 -> - | F11: =Sheet1!V43 -> -
A12: 晚自习

Sheet 宏博楼404
A1: 宏博楼404
A2: =Sheet1!L2 -> （2024至2025学年第1学期） 第 2 周
B3: 星期一 | C3: 星期二 | D3: 星期三 | E3: 星期四 | F3: 星期五
A4: 1-2 | B4: =Sheet1!Y4 -> 留学生234 | C4: =Sheet1!D28 -> 软件2201 | D4: =Sheet1!Y20 -> 网络2302 | E4: =Sheet1!Y28 -> 网络2303 | F4: =Sheet1!Y36 -> 留学生234
B5: =Sheet1!Y5 -> 孙丹东 | C5: =Sheet1!D29 -> 张延年 | D5: =Sheet1!Y21 -> 孙丹东 | E5: =Sheet1!Y29 -> 孙丹东 | F5: =Sheet1!Y37 -> 张淑梅
A6: 3-4 | B6: =Sheet1!Y6 -> - | C6: =Sheet1!Y14 -> 网络2301 | D6: =Sheet1!Y22 -> 网络2302 | E6: =Sheet1!Y30 -> 网络2303 | F6: =Sheet1!Y38 -> 留学生234
B7: =Sheet1!Y7 -> - | C7: =Sheet1!Y15 -> 孙丹东 | D7: =Sheet1!Y23 -> 孙丹东 | E7: =Sheet1!Y31 -> 孙丹东 | F7: =Sheet1!Y39 -> 张淑梅
A8: 5-6 | B8: =Sheet1!Y8 -> 网络2302 | C8: =Sheet1!Y16 -> 道桥2304 | D8: =Sheet1!Y24 -> - | E8: =Sheet1!Y32 -> - | F8: =Sheet1!Y40 -> -
B9: =Sheet1!Y9 -> 戎戟 | C9: =Sheet1!Y17 -> 戎戟 | D9: =Sheet1!Y25 -> - | E9: =Sheet1!Y33 -> - | F9: =Sheet1!Y41 -> -
A10: 7-8 | B10: =Sheet1!Y10 -> 网络2302 | C10: =Sheet1!Y18 -> - | D10: =Sheet1!Y26 -> - | E10: =Sheet1!Y34 -> - | F10: =Sheet1!Y42 -> -
B11: =Sheet1!Y11 -> 戎戟 | C11: =Sheet1!Y19 -> - | D11: =Sheet1!Y27 -> - | E11: =Sheet1!Y35 -> - | F11: =Sheet1!Y43 -> -
A12: 晚自习

Sheet 宏博楼406
A1: 宏博楼406
A2: =Sheet1!L2 -> （2024至2025学年第1学期） 第 2 周
B3: 星期一 | C3: 星期二 | D3: 星期三 | E3: 星期四 | F3: 星期五
A4: 1-2 | B4: =Sheet1!Z4 -> 网络2203 | C4: =Sheet1!Z12 -> - | D4: =Sheet1!Z20 -> 网络2201 | E4: =Sheet1!Z28 -> 网络2201 | F4: =Sheet1!Z36 -> -
B5: =Sheet1!Z5 -> 王雅琴 | C5: =Sheet1!Z13 -> - | D5: =Sheet1!Z21 -> 王雅琴 | E5: =Sheet1!Z29 -> 王雅琴 | F5: =Sheet1!Z37 -> -
A6: 3-4 | B6: =Sheet1!Z6 -> 网络2203 | C6: =Sheet1!Z14 -> - | D6: =Sheet1!Z22 -> 网络2201 | E6: =Sheet1!Z30 -> 网络2201 | F6: =Sheet1!Z38 -> 网络2202
B7: =Sheet1!Z7 -> 王雅琴 | C7: =Sheet1!Z15 -> - | D7: =Sheet1!Z23 -> 王雅琴 | E7: =Sheet1!Z31 -> 王雅琴 | F7: =Sheet1!Z39 -> 王雅琴
A8: 5-6 | B8: =Sheet1!Z8 -> - | C8: =Sheet1!Z16 -> - | D8: =Sheet1!Z24 -> - | E8: =Sheet1!Z32 -> 道桥2307 | F8: =Sheet1!Z40 -> -
B9: =Sheet1!Z9 -> - | C9: =Sheet1!Z17 -> - | D9: =Sheet1!Z25 -> - | E9: =Sheet1!Z33 -> 张延年 | F9: =Sheet1!Z41 -> -
A10: 7-8 | B10: =Sheet1!Z10 -> - | C10: =Sheet1!Z18 -> - | D10: =Sheet1!Z26 -> - | E10: =Sheet1!Z34 -> - | F10: =Sheet1!Z42 -> -
B11: =Sheet1!Z11 -> - | C11: =Sheet1!Z19 -> - | D11: =Sheet1!Z27 -> - | E11: =Sheet1!Z35 -> - | F11: =Sheet1!Z43 -> -
A12: 晚自习

Sheet 宏博楼408
A1: 宏博楼408
A2: =Sheet1!L2 -> （2024至2025学年第1学期） 第 2 周
B3: 星期一 | C3: 星期二 | D3: 星期三 | E3: 星期四 | F3: 星期五
A4: 1-2 | B4: =Sheet1!AA4 -> 网络2301 | C4: =Sheet1!AA12 -> - | D4: =Sheet1!AA20 -> 网络2303 | E4: =Sheet1!AA28 -> 网络2302 | F4: =Sheet1!AA36 -> 网络2303
B5: =Sheet1!AA5 -> 张淑梅 | C5: =Sheet1!AA13 -> - | D5: =Sheet1!AA21 -> 张淑梅 | E5: =Sheet1!AA29 -> 张淑梅 | F5: =Sheet1!AA37 -> 戎戟
A6: 3-4 | B6: =Sheet1!AA6 -> - | C6: =Sheet1!AA14 -> - | D6: =Sheet1!AA22 -> 网络2303 | E6: =Sheet1!AA30 -> 网络2302 | F6: =Sheet1!AA38 -> 网络2303
B7: =Sheet1!AA7 -> - | C7: =Sheet1!AA15 -> - | D7: =Sheet1!AA23 -> 张淑梅 | E7: =Sheet1!AA31 -> 张淑梅 | F7: =Sheet1!AA39 -> 戎戟
A8: 5-6 | B8: =Sheet1!AA8 -> 网络2301 | C8: =Sheet1!AA16 -> - | D8: =Sheet1!AA24 -> - | E8: =Sheet1!AA32 -> - | F8: =Sheet1!AA40 -> -
B9: =Sheet1!AA9 -> 张淑梅 | C9: =Sheet1!AA17 -> - | D9: =Sheet1!AA25 -> - | E9: =Sheet1!AA33 -> - | F9: =Sheet1!AA41 -> -
A10: 7-8 | B10: =Sheet1!AA10 -> - | C10: =Sheet1!AA18 -> - | D10: =Sheet1!AA26 -> - | E10: =Sheet1!AA34 -> - | F10: =Sheet1!AA42 -> -
B11: =Sheet1!AA11 -> - | C11: =Sheet1!AA19 -> - | D11: =Sheet1!AA27 -> - | E11: =Sheet1!AA35 -> - | F11: =Sheet1!AA43 -> -
A12: 晚自习

Sheet 宏博楼410
A1: 宏博楼410
A2: =Sheet1!L2 -> （2024至2025学年第1学期） 第 2 周
B3: 星期一 | C3: 星期二 | D3: 星期三 | E3: 星期四 | F3: 星期五 | G3: 星期六
A4: 1-2 | B4: =Sheet1!AB4 -> 智能交通2201 | C4: =Sheet1!AB12 -> 网络2202 | D4: =Sheet1!AB20 -> - | E4: =Sheet1!AB28 -> 网络2203 | F4: =Sheet1!AB36 -> 智能交通2202 | G4: =Sheet1!#REF! -> #REF!
B5: =Sheet1!AB5 -> 石杨 | C5: =Sheet1!AB13 -> 石杨 | D5: =Sheet1!AB21 -> - | E5: =Sheet1!AB29 -> 石杨 | F5: =Sheet1!AB37 -> 石杨 | G5: =Sheet1!#REF! -> #REF!
A6: 3-4 | B6: =Sheet1!AB6 -> 智能交通2201 | C6: =Sheet1!AB14 -> 网络2202 | D6: =Sheet1!AB22 -> 网络2202 | E6: =Sheet1!AB30 -> 网络2203 | F6: =Sheet1!AB38 -> 智能交通2202 | G6: =Sheet1!#REF! -> #REF!
B7: =Sheet1!AB7 -> 石杨 | C7: =Sheet1!AB15 -> 石杨 | D7: =Sheet1!AB23 -> 石杨 | E7: =Sheet1!AB31 -> 石杨 | F7: =Sheet1!AB39 -> 石杨 | G7: =Sheet1!#REF! -> #REF!
A8: 5-6 | B8: =Sheet1!AB8 -> 智能交通2201 | C8: =Sheet1!AB16 -> - | D8: =Sheet1!AB24 -> - | E8: =Sheet1!AB32 -> 网络2203 | F8: =Sheet1!AB40 -> 智能交通2202 | G8: =Sheet1!#REF! -> #REF!
B9: =Sheet1!AB9 -> 石杨 | C9: =Sheet1!AB17 -> - | D9: =Sheet1!AB25 -> - | E9: =Sheet1!AB33 -> 石杨 | F9: =Sheet1!AB41 -> 石杨 | G9: =Sheet1!#REF! -> #REF!
A10: 7-8 | B10: =Sheet1!AB10 -> - | C10: =Sheet1!AB18 -> - | D10: =Sheet1!AB26 -> - | E10: =Sheet1!AB34 -> - | F10: =Sheet1!AB42 -> - | G10: =Sheet1!#REF! -> #REF!
B11: =Sheet1!AB11 -> - | C11: =Sheet1!AB19 -> - | D11: =Sheet1!AB27 -> - | E11: =Sheet1!AB35 -> - | F11: =Sheet1!AB43 -> - | G11: =Sheet1!#REF! -> #REF!
A12: 晚自习

Sheet 宏博楼515
A1: 宏博楼515
A2: =Sheet1!L2 -> （2024至2025学年第1学期） 第 2 周
B3: 星期一 | C3: 星期二 | D3: 星期三 | E3: 星期四 | F3: 星期五
A4: 1-2 | B4: =Sheet1!AC4 -> 通信2201 | C4: =Sheet1!AC12 -> 通信2301 | D4: =Sheet1!AC20 -> 通信2201 | E4: =Sheet1!AC28 -> 通信2202 | F4: =Sheet1!AC36 -> 通信2302
B5: =Sheet1!AC5 -> 管宇 | C5: =Sheet1!AC13 -> 王琰 | D5: =Sheet1!AC21 -> 王琰 | E5: =Sheet1!AC29 -> 王琰 | F5: =Sheet1!AC37 -> 王琰
A6: 3-4 | B6: =Sheet1!AC6 -> 通信2201 | C6: =Sheet1!AC14 -> 通信2301 | D6: =Sheet1!AC22 -> 通信2201 | E6: =Sheet1!AC30 -> 通信2202 | F6: =Sheet1!AC38 -> 通信2302
B7: =Sheet1!AC7 -> 管宇 | C7: =Sheet1!AC15 -> 王琰 | D7: =Sheet1!AC23 -> 王琰 | E7: =Sheet1!AC31 -> 王琰 | F7: =Sheet1!AC39 -> 王琰
A8: 5-6 | B8: =Sheet1!AC8 -> - | C8: =Sheet1!AC16 -> - | D8: =Sheet1!AC24 -> - | E8: =Sheet1!AC32 -> 通信2302 | F8: =Sheet1!AC40 -> -
B9: =Sheet1!AC9 -> - | C9: =Sheet1!AC17 -> - | D9: =Sheet1!AC25 -> - | E9: =Sheet1!AC33 -> 郑莹 | F9: =Sheet1!AC41 -> -
A10: 7-8 | B10: =Sheet1!AC10 -> - | C10: =Sheet1!AC18 -> - | D10: =Sheet1!AC26 -> - | E10: =Sheet1!AC34 -> - | F10: =Sheet1!AC42 -> -
B11: =Sheet1!AC11 -> - | C11: =Sheet1!AC19 -> - | D11: =Sheet1!AC27 -> - | E11: =Sheet1!AC35 -> - | F11: =Sheet1!AC43 -> -
A12: 晚自习

Sheet 宏博楼519
A1: 宏博楼519
A2: =Sheet1!L2 -> （2024至2025学年第1学期） 第 2 周
B3: 星期一 | C3: 星期二 | D3: 星期三 | E3: 星期四 | F3: 星期五
A4: 1-2 | B4: =Sheet1!AD4 -> 通信2302 | C4: =Sheet1!AD12 -> 通信2302 | D4: =Sheet1!AD20 -> 通信2202 | E4: =Sheet1!AD28 -> 通信2301 | F4: =Sheet1!AD36 -> 通信2301
B5: =Sheet1!AD5 -> 张开驹 | C5: =Sheet1!AD13 -> 雷小燕 | D5: =Sheet1!AD21 -> 管宇 | E5: =Sheet1!AD29 -> 张开驹 | F5: =Sheet1!AD37 -> 雷小燕
A6: 3-4 | B6: =Sheet1!AD6 -> 道桥2308 | C6: =Sheet1!AD14 -> 通信2302 | D6: =Sheet1!AD22 -> 通信2202 | E6: =Sheet1!AD30 -> 通信2201 | F6: =Sheet1!AD38 -> 通信2301
B7: =Sheet1!AD7 -> 雷小燕 | C7: =Sheet1!AD15 -> 雷小燕 | D7: =Sheet1!AD23 -> 管宇 | E7: =Sheet1!AD31 -> 顾雪韵 | F7: =Sheet1!AD39 -> 雷小燕
A8: 5-6 | B8: =Sheet1!AD8 -> - | C8: =Sheet1!AD16 -> - | D8: =Sheet1!AD24 -> - | E8: =Sheet1!AD32 -> 道桥2308 | F8: =Sheet1!AD40 -> -
B9: =Sheet1!AD9 -> - | C9: =Sheet1!AD17 -> - | D9: =Sheet1!AD25 -> - | E9: =Sheet1!AD33 -> 雷小燕 | F9: =Sheet1!AD41 -> -
A10: 7-8 | B10: =Sheet1!AD10 -> - | C10: =Sheet1!AD18 -> - | D10: =Sheet1!AD26 -> - | E10: =Sheet1!AD34 -> - | F10: =Sheet1!AD42 -> -
B11: =Sheet1!AD11 -> - | C11: =Sheet1!AD19 -> - | D11: =Sheet1!AD27 -> - | E11: =Sheet1!AD35 -> - | F11: =Sheet1!AD43 -> -
A12: 晚自习

Sheet Sheet2
