Workbook

Sheet Sheet1
A1: 电子实训室计划安排表
A2: （2024至2025学年第1学期） 第 2 周
C3: 宏博楼103 | D3: 宏博楼105 | E3: 宏博楼502 | F3: 宏博楼113 | G3: 宏博楼504 | H3: 宏博楼505 | I3: 宏博楼508 | J3: 宏博楼510 | K3: 宏博楼512 | L3: 宏博楼514 | M3: 宏博楼516
A4: 周一 | B4: 1-2 | C4: 2240221 | D4: - | E4: - | F4: 2240821 | G4: - | H4: - | I4: 2340811 | J4: - | K4: 2240222 | L4: - | M4: -
C5: 刘颖 | D5: - | E5: - | F5: 周鑫 | G5: - | H5: - | I5: 苏丹凤 | J5: - | K5: 吴凌寻 | L5: - | M5: -
B6: 3-4 | C6: - | D6: - | E6: - | F6: 2240821 | G6: - | H6: - | I6: - | J6: - | K6: 2240221 | L6: - | M6: -
C7: - | D7: - | E7: - | F7: 周鑫 | G7: - | H7: - | I7: - | J7: - | K7: 吴凌寻 | L7: - | M7: -
B8: 5-6 | C8: - | D8: - | E8: - | F8: - | G8: - | H8: - | I8: 2340821 | J8: - | K8: - | L8: 2340221 | M8: -
C9: - | D9: - | E9: - | F9: - | G9: - | H9: - | I9: 苏丹凤 | J9: - | K9: - | L9: 刘颖 | M9: -
B10: 7-8 | C10: - | D10: - | E10: - | F10: - | G10: - | H10: - | I10: - | J10: - | K10: - | L10: - | M10: -
C11: - | D11: - | E11: - | F11: - | G11: - | H11: - | I11: - | J11: - | K11: - | L11: - | M11: -
A12: 周二 | B12: 1-2 | C12: 2240221 | D12: - | E12: - | F12: - | G12: - | H12: - | I12: 2340821 | J12: 2340221 | K12: - | L12: - | M12: -
C13: 刘颖 | D13: - | E13: - | F13: - | G13: - | H13: - | I13: 周鑫 | J13: 吴文亮 | K13: - | L13: - | M13: -
B14: 3-4 | C14: 2240222 | D14: - | E14: - | F14: 2240821 | G14: - | H14: - | I14: 2340821 | J14: 2340221 | K14: - | L14: - | M14: -
C15: 刘颖 | D15: - | E15: - | F15: 冯秀 | G15: - | H15: - | I15: 周鑫 | J15: 吴文亮 | K15: - | L15: - | M15: -
B16: 5-6 | C16: - | D16: - | E16: - | F16: 2240821 | G16: - | H16: - | I16: - | J16: - | K16: - | L16: - | M16: -
C17: - | D17: - | E17: - | F17: 冯秀 | G17: - | H17: - | I17: - | J17: - | K17: - | L17: - | M17: -
B18: 7-8 | C18: - | D18: - | E18: - | F18: - | G18: - | H18: - | I18: - | J18: - | K18: - | L18: - | M18: -
C19: - | D19: - | E19: - | F19: - | G19: - | H19: - | I19: - | J19: - | K19: - | L19: - | M19: -
A20: 周三 | B20: 1-2 | C20: 2240222 | D20: 2240221 | E20: - | F20: - | G20: 2240612 | H20: 2240821 | I20: 2340821 | J20: - | K20: - | L20: - | M20: -
C21: 刘颖 | D21: 吴文亮 | E21: - | F21: - | G21: 张云 | H21: 张靓 | I21: 苏丹凤 | J21: - | K21: - | L21: - | M21: -
B22: 3-4 | C22: - | D22: 2240221 | E22: - | F22: - | G22: 2240612 | H22: 2240821 | I22: 2340811 | J22: - | K22: - | L22: 2340221 | M22: -
C23: - | D23: 吴文亮 | E23: - | F23: - | G23: 张云 | H23: 张靓 | I23: 苏丹凤 | J23: - | K23: - | L23: 刘颖 | M23: -
B24: 5-6 | C24: - | D24: - | E24: - | F24: - | G24: - | H24: - | I24: - | J24: - | K24: - | L24: - | M24: -
C25: - | D25: - | E25: - | F25: - | G25: - | H25: - | I25: - | J25: - | K25: - | L25: - | M25: -
B26: 7-8 | C26: - | D26: - | E26: - | F26: - | G26: - | H26: - | I26: - | J26: - | K26: - | L26: - | M26: -
C27: - | D27: - | E27: - | F27: - | G27: - | H27: - | I27: - | J27: - | K27: - | L27: - | M27: -
A28: 周四 | B28: 1-2 | C28: - | D28: - | E28: - | F28: 2240821 | G28: 2240611 | H28: 2340821 | I28: - | J28: - | K28: 2240222 | L28: - | M28: 通信2201
C29: - | D29: - | E29: - | F29: 冯秀 | G29: 张云 | H29: 张靓 | I29: - | J29: - | K29: 吴凌寻 | L29: - | M29: 顾雪韵
B30: 3-4 | C30: - | D30: - | E30: - | F30: 2340821 | G30: 2240612 | H30: - | I30: - | J30: - | K30: 2340222 | L30: - | M30: -
C31: - | D31: - | E31: - | F31: 冯秀 | G31: 张云 | H31: - | I31: - | J31: - | K31: 吴凌寻 | L31: - | M31: -
B32: 5-6 | C32: - | D32: - | E32: - | F32: 2340821 | G32: - | H32: - | I32: - | J32: - | K32: 2340221 | L32: - | M32: -
C33: - | D33: - | E33: - | F33: 张靓 | G33: - | H33: - | I33: - | J33: - | K33: 吴凌寻 | L33: - | M33: -
B34: 7-8 | C34: - | D34: - | E34: - | F34: - | G34: - | H34: - | I34: - | J34: - | K34: - | L34: - | M34: -
C35: - | D35: - | E35: - | F35: - | G35: - | H35: - | I35: - | J35: - | K35: - | L35: - | M35: -
A36: 周五 | B36: 1-2 | C36: - | D36: 2240222 | E36: - | F36: 2340811 | G36: 2240611 | H36: - | I36: - | J36: - | K36: 2240221 | L36: - | M36: 通信2202
C37: - | D37: 吴文亮 | E37: - | F37: 张靓 | G37: 张云 | H37: - | I37: - | J37: - | K37: 吴凌寻 | L37: - | M37: 顾雪韵
B38: 3-4 | C38: - | D38: 2240222 | E38: - | F38: 2340811 | G38: 2240611 | H38: - | I38: - | J38: - | K38: 2340222 | L38: - | M38: 通信2202
C39: - | D39: 吴文亮 | E39: - | F39: 张靓 | G39: 张云 | H39: - | I39: - | J39: - | K39: 吴凌寻 | L39: - | M39: 顾雪韵
B40: 5-6 | C40: - | D40: - | E40: - | F40: - | G40: - | H40: - | I40: - | J40: - | K40: 2340221 | L40: - | M40: -
...

Sheet 宏博楼103
A1: 宏博楼103
A2: =Sheet1!A2 -> （2024至2025学年第1学期） 第 2 周
B3: 星期一 | C3: 星期二 | D3: 星期三 | E3: 星期四 | F3: 星期五
A4: 1-2 | B4: =Sheet1!C4 -> 2240221 | C4: =Sheet1!C12 -> 2240221 | D4: =Sheet1!C20 -> 2240222 | E4: =Sheet1!C28 -> - | F4: =Sheet1!C36 -> -
B5: =Sheet1!C5 -> 刘颖 | C5: =Sheet1!C13 -> 刘颖 | D5: =Sheet1!C21 -> 刘颖 | E5: =Sheet1!C29 -> - | F5: =Sheet1!C37 -> -
A6: 3-4 | B6: =Sheet1!C6 -> - | C6: =Sheet1!C14 -> 2240222 | D6: =Sheet1!C22 -> - | E6: =Sheet1!C30 -> - | F6: =Sheet1!C38 -> -
B7: =Sheet1!C7 -> - | C7: =Sheet1!C15 -> 刘颖 | D7: =Sheet1!C23 -> - | E7: =Sheet1!C31 -> - | F7: =Sheet1!C39 -> -
A8: 5-6 | B8: =Sheet1!C8 -> - | C8: =Sheet1!C16 -> - | D8: =Sheet1!C24 -> - | E8: =Sheet1!C32 -> - | F8: =Sheet1!C40 -> -
B9: =Sheet1!C9 -> - | C9: =Sheet1!C17 -> - | D9: =Sheet1!C25 -> - | E9: =Sheet1!C33 -> - | F9: =Sheet1!C41 -> -
A10: 7-8 | B10: =Sheet1!C10 -> - | C10: =Sheet1!C18 -> - | D10: =Sheet1!C26 -> - | E10: =Sheet1!C34 -> - | F10: =Sheet1!C42 -> -
B11: =Sheet1!C11 -> - | C11: =Sheet1!C19 -> - | D11: =Sheet1!C27 -> - | E11: =Sheet1!C35 -> - | F11: =Sheet1!C43 -> -
A12: 晚自习

Sheet 宏博楼105
A1: 宏博楼105
A2: =Sheet1!A2 -> （2024至2025学年第1学期） 第 2 周
B3: 星期一 | C3: 星期二 | D3: 星期三 | E3: 星期四 | F3: 星期五
A4: 1-2 | B4: =Sheet1!D4 -> - | C4: =Sheet1!D12 -> - | D4: =Sheet1!D20 -> 2240221 | E4: =Sheet1!D28 -> - | F4: =Sheet1!D36 -> 2240222
B5: =Sheet1!D5 -> - | C5: =Sheet1!D13 -> - | D5: =Sheet1!D21 -> 吴文亮 | E5: =Sheet1!D29 -> - | F5: =Sheet1!D37 -> 吴文亮
A6: 3-4 | B6: =Sheet1!D6 -> - | C6: =Sheet1!D14 -> - | D6: =Sheet1!D22 -> 2240221 | E6: =Sheet1!D30 -> - | F6: =Sheet1!D38 -> 2240222
B7: =Sheet1!D7 -> - | C7: =Sheet1!D15 -> - | D7: =Sheet1!D23 -> 吴文亮 | E7: =Sheet1!D31 -> - | F7: =Sheet1!D39 -> 吴文亮
A8: 5-6 | B8: =Sheet1!D8 -> - | C8: =Sheet1!D16 -> - | D8: =Sheet1!D24 -> - | E8: =Sheet1!D32 -> - | F8: =Sheet1!D40 -> -
B9: =Sheet1!D9 -> - | C9: =Sheet1!D17 -> - | D9: =Sheet1!D25 -> - | E9: =Sheet1!D33 -> - | F9: =Sheet1!D41 -> -
A10: 7-8 | B10: =Sheet1!D10 -> - | C10: =Sheet1!D18 -> - | D10: =Sheet1!D26 -> - | E10: =Sheet1!D34 -> - | F10: =Sheet1!D42 -> -
B11: =Sheet1!D11 -> - | C11: =Sheet1!D19 -> - | D11: =Sheet1!D27 -> - | E11: =Sheet1!D35 -> - | F11: =Sheet1!D43 -> -
A12: 晚自习

Sheet 宏博楼502
A1: 宏博楼502
A2: =Sheet1!A2 -> （2024至2025学年第1学期） 第 2 周
B3: 星期一 | C3: 星期二 | D3: 星期三 | E3: 星期四 | F3: 星期五
A4: 1-2 | B4: =Sheet1!E4 -> - | C4: =Sheet1!E12 -> - | D4: =Sheet1!E20 -> - | E4: =Sheet1!E28 -> - | F4: =Sheet1!E36 -> -
B5: =Sheet1!E5 -> - | C5: =Sheet1!E13 -> - | D5: =Sheet1!E21 -> - | E5: =Sheet1!E29 -> - | F5: =Sheet1!E37 -> -
A6: 3-4 | B6: =Sheet1!E6 -> - | C6: =Sheet1!E14 -> - | D6: =Sheet1!E22 -> - | E6: =Sheet1!E30 -> - | F6: =Sheet1!E38 -> -
B7: =Sheet1!E7 -> - | C7: =Sheet1!E15 -> - | D7: =Sheet1!E23 -> - | E7: =Sheet1!E31 -> - | F7: =Sheet1!E39 -> -
A8: 5-6 | B8: =Sheet1!E8 -> - | C8: =Sheet1!E16 -> - | D8: =Sheet1!E24 -> - | E8: =Sheet1!E32 -> - | F8: =Sheet1!E40 -> -
B9: =Sheet1!E9 -> - | C9: =Sheet1!E17 -> - | D9: =Sheet1!E25 -> - | E9: =Sheet1!E33 -> - | F9: =Sheet1!E41 -> -
A10: 7-8 | B10: =Sheet1!E10 -> - | C10: =Sheet1!E18 -> - | D10: =Sheet1!E26 -> - | E10: =Sheet1!E34 -> - | F10: =Sheet1!E42 -> -
B11: =Sheet1!E11 -> - | C11: =Sheet1!E19 -> - | D11: =Sheet1!E27 -> - | E11: =Sheet1!E35 -> - | F11: =Sheet1!E43 -> -
A12: 晚自习

Sheet 宏博楼113
A1: 宏博楼113
A2: =Sheet1!A2 -> （2024至2025学年第1学期） 第 2 周
B3: 星期一 | C3: 星期二 | D3: 星期三 | E3: 星期四 | F3: 星期五
A4: 1-2 | B4: =Sheet1!F4 -> 2240821 | C4: =Sheet1!F12 -> - | D4: =Sheet1!F20 -> - | E4: =Sheet1!F28 -> 2240821 | F4: =Sheet1!F36 -> 2340811
B5: =Sheet1!F5 -> 周鑫 | C5: =Sheet1!F13 -> - | D5: =Sheet1!F21 -> - | E5: =Sheet1!F29 -> 冯秀 | F5: =Sheet1!F37 -> 张靓
A6: 3-4 | B6: =Sheet1!F6 -> 2240821 | C6: =Sheet1!F14 -> 2240821 | D6: =Sheet1!F22 -> - | E6: =Sheet1!F30 -> 2340821 | F6: =Sheet1!F38 -> 2340811
B7: =Sheet1!F7 -> 周鑫 | C7: =Sheet1!F15 -> 冯秀 | D7: =Sheet1!F23 -> - | E7: =Sheet1!F31 -> 冯秀 | F7: =Sheet1!F39 -> 张靓
A8: 5-6 | B8: =Sheet1!F8 -> - | C8: =Sheet1!F16 -> 2240821 | D8: =Sheet1!F24 -> - | E8: =Sheet1!F32 -> 2340821 | F8: =Sheet1!F40 -> -
B9: =Sheet1!F9 -> - | C9: =Sheet1!F17 -> 冯秀 | D9: =Sheet1!F25 -> - | E9: =Sheet1!F33 -> 张靓 | F9: =Sheet1!F41 -> -
A10: 7-8 | B10: =Sheet1!F10 -> - | C10: =Sheet1!F18 -> - | D10: =Sheet1!F26 -> - | E10: =Sheet1!F34 -> - | F10: =Sheet1!F42 -> -
B11: =Sheet1!F11 -> - | C11: =Sheet1!F19 -> - | D11: =Sheet1!F27 -> - | E11: =Sheet1!F35 -> - | F11: =Sheet1!F43 -> -
A12: 晚自习

Sheet 宏博楼504
A1: 宏博楼504
A2: =Sheet1!A2 -> （2024至2025学年第1学期） 第 2 周
B3: 星期一 | C3: 星期二 | D3: 星期三 | E3: 星期四 | F3: 星期五
A4: 1-2 | B4: =Sheet1!G4 -> - | C4: =Sheet1!G12 -> - | D4: =Sheet1!G20 -> 2240612 | E4: =Sheet1!G28 -> 2240611 | F4: =Sheet1!G36 -> 2240611
B5: =Sheet1!G5 -> - | C5: =Sheet1!G13 -> - | D5: =Sheet1!G21 -> 张云 | E5: =Sheet1!G29 -> 张云 | F5: =Sheet1!G37 -> 张云
A6: 3-4 | B6: =Sheet1!G6 -> - | C6: =Sheet1!G14 -> - | D6: =Sheet1!G22 -> 2240612 | E6: =Sheet1!G30 -> 2240612 | F6: =Sheet1!G38 -> 2240611
B7: =Sheet1!G7 -> - | C7: =Sheet1!G15 -> - | D7: =Sheet1!G23 -> 张云 | E7: =Sheet1!G31 -> 张云 | F7: =Sheet1!G39 -> 张云
A8: 5-6 | B8: =Sheet1!G8 -> - | C8: =Sheet1!G16 -> - | D8: =Sheet1!G24 -> - | E8: =Sheet1!G32 -> - | F8: =Sheet1!G40 -> -
B9: =Sheet1!G9 -> - | C9: =Sheet1!G17 -> - | D9: =Sheet1!G25 -> - | E9: =Sheet1!G33 -> - | F9: =Sheet1!G41 -> -
A10: 7-8 | B10: =Sheet1!G10 -> - | C10: =Sheet1!G18 -> - | D10: =Sheet1!G26 -> - | E10: =Sheet1!G34 -> - | F10: =Sheet1!G42 -> -
B11: =Sheet1!G11 -> - | C11: =Sheet1!G19 -> - | D11: =Sheet1!G27 -> - | E11: =Sheet1!G35 -> - | F11: =Sheet1!G43 -> -
A12: 晚自习

Sheet 宏博楼505
A1: 宏博楼505
A2: =Sheet1!A2 -> （2024至2025学年第1学期） 第 2 周
B3: 星期一 | C3: 星期二 | D3: 星期三 | E3: 星期四 | F3: 星期五
A4: 1-2 | B4: =Sheet1!H4 -> - | C4: =Sheet1!H12 -> - | D4: =Sheet1!H20 -> 2240821 | E4: =Sheet1!H28 -> 2340821 | F4: =Sheet1!H36 -> -
B5: =Sheet1!H5 -> - | C5: =Sheet1!H13 -> - | D5: =Sheet1!H21 -> 张靓 | E5: =Sheet1!H29 -> 张靓 | F5: =Sheet1!H37 -> -
A6: 3-4 | B6: =Sheet1!H6 -> - | C6: =Sheet1!H14 -> - | D6: =Sheet1!H22 -> 2240821 | E6: =Sheet1!H30 -> - | F6: =Sheet1!H38 -> -
B7: =Sheet1!H7 -> - | C7: =Sheet1!H15 -> - | D7: =Sheet1!H23 -> 张靓 | E7: =Sheet1!H31 -> - | F7: =Sheet1!H39 -> -
A8: 5-6 | B8: =Sheet1!H8 -> - | C8: =Sheet1!H16 -> - | D8: =Sheet1!H24 -> - | E8: =Sheet1!H32 -> - | F8: =Sheet1!H40 -> -
B9: =Sheet1!H9 -> - | C9: =Sheet1!H17 -> - | D9: =Sheet1!H25 -> - | E9: =Sheet1!H33 -> - | F9: =Sheet1!H41 -> -
A10: 7-8 | B10: =Sheet1!H10 -> - | C10: =Sheet1!H18 -> - | D10: =Sheet1!H26 -> - | E10: =Sheet1!H34 -> - | F10: =Sheet1!H42 -> -
B11: =Sheet1!H11 -> - | C11: =Sheet1!H19 -> - | D11: =Sheet1!H27 -> - | E11: =Sheet1!H35 -> - | F11: =Sheet1!H43 -> -
A12: 晚自习

Sheet 宏博楼508
A1: 宏博楼508
A2: =Sheet1!A2 -> （2024至2025学年第1学期） 第 2 周
B3: 星期一 | C3: 星期二 | D3: 星期三 | E3: 星期四 | F3: 星期五
A4: 1-2 | B4: =Sheet1!I4 -> 2340811 | C4: =Sheet1!I12 -> 2340821 | D4: =Sheet1!I20 -> 2340821 | E4: =Sheet1!I28 -> - | F4: =Sheet1!I36 -> -
B5: =Sheet1!I5 -> 苏丹凤 | C5: =Sheet1!I13 -> 周鑫 | D5: =Sheet1!I21 -> 苏丹凤 | E5: =Sheet1!I29 -> - | F5: =Sheet1!I37 -> -
A6: 3-4 | B6: =Sheet1!I6 -> - | C6: =Sheet1!I14 -> 2340821 | D6: =Sheet1!I22 -> 2340811 | E6: =Sheet1!I30 -> - | F6: =Sheet1!I38 -> -
B7: =Sheet1!I7 -> - | C7: =Sheet1!I15 -> 周鑫 | D7: =Sheet1!I23 -> 苏丹凤 | E7: =Sheet1!I31 -> - | F7: =Sheet1!I39 -> -
A8: 5-6 | B8: =Sheet1!I8 -> 2340821 | C8: =Sheet1!I16 -> - | D8: =Sheet1!I24 -> - | E8: =Sheet1!I32 -> - | F8: =Sheet1!I40 -> -
B9: =Sheet1!I9 -> 苏丹凤 | C9: =Sheet1!I17 -> - | D9: =Sheet1!I25 -> - | E9: =Sheet1!I33 -> - | F9: =Sheet1!I41 -> -
A10: 7-8 | B10: =Sheet1!I10 -> - | C10: =Sheet1!I18 -> - | D10: =Sheet1!I26 -> - | E10: =Sheet1!I34 -> - | F10: =Sheet1!I42 -> -
B11: =Sheet1!I11 -> - | C11: =Sheet1!I19 -> - | D11: =Sheet1!I27 -> - | E11: =Sheet1!I35 -> - | F11: =Sheet1!I43 -> -
A12: 晚自习

Sheet 宏博楼510
A1: 宏博楼510
A2: =Sheet1!A2 -> （2024至2025学年第1学期） 第 2 周
B3: 星期一 | C3: 星期二 | D3: 星期三 | E3: 星期四 | F3: 星期五
A4: 1-2 | B4: =Sheet1!J4 -> - | C4: =Sheet1!J12 -> 2340221 | D4: =Sheet1!J20 -> - | E4: =Sheet1!J28 -> - | F4: =Sheet1!J36 -> -
B5: =Sheet1!J5 -> - | C5: =Sheet1!J13 -> 吴文亮 | D5: =Sheet1!J21 -> - | E5: =Sheet1!J29 -> - | F5: =Sheet1!J37 -> -
A6: 3-4 | B6: =Sheet1!J6 -> - | C6: =Sheet1!J14 -> 2340221 | D6: =Sheet1!J22 -> - | E6: =Sheet1!J30 -> - | F6: =Sheet1!J38 -> -
B7: =Sheet1!J7 -> - | C7: =Sheet1!J15 -> 吴文亮 | D7: =Sheet1!J23 -> - | E7: =Sheet1!J31 -> - | F7: =Sheet1!J39 -> -
A8: 5-6 | B8: =Sheet1!J8 -> - | C8: =Sheet1!J16 -> - | D8: =Sheet1!J24 -> - | E8: =Sheet1!J32 -> - | F8: =Sheet1!J40 -> -
B9: =Sheet1!J9 -> - | C9: =Sheet1!J17 -> - | D9: =Sheet1!J25 -> - | E9: =Sheet1!J33 -> - | F9: =Sheet1!J41 -> -
A10: 7-8 | B10: =Sheet1!J10 -> - | C10: =Sheet1!J18 -> - | D10: =Sheet1!J26 -> - | E10: =Sheet1!J34 -> - | F10: =Sheet1!J42 -> -
B11: =Sheet1!J11 -> - | C11: =Sheet1!J19 -> - | D11: =Sheet1!J27 -> - | E11: =Sheet1!J35 -> - | F11: =Sheet1!J43 -> -
A12: 晚自习

Sheet 宏博楼512
A1: 宏博楼512
A2: =Sheet1!A2 -> （2024至2025学年第1学期） 第 2 周
B3: 星期一 | C3: 星期二 | D3: 星期三 | E3: 星期四 | F3: 星期五
A4: 1-2 | B4: =Sheet1!K4 -> 2240222 | C4: =Sheet1!K12 -> - | D4: =Sheet1!K20 -> - | E4: =Sheet1!K28 -> 2240222 | F4: =Sheet1!K36 -> 2240221
B5: =Sheet1!K5 -> 吴凌寻 | C5: =Sheet1!K13 -> - | D5: =Sheet1!K21 -> - | E5: =Sheet1!K29 -> 吴凌寻 | F5: =Sheet1!K37 -> 吴凌寻
A6: 3-4 | B6: =Sheet1!K6 -> 2240221 | C6: =Sheet1!K14 -> - | D6: =Sheet1!K22 -> - | E6: =Sheet1!K30 -> 2340222 | F6: =Sheet1!K38 -> 2340222
B7: =Sheet1!K7 -> 吴凌寻 | C7: =Sheet1!K15 -> - | D7: =Sheet1!K23 -> - | E7: =Sheet1!K31 -> 吴凌寻 | F7: =Sheet1!K39 -> 吴凌寻
A8: 5-6 | B8: =Sheet1!K8 -> - | C8: =Sheet1!K16 -> - | D8: =Sheet1!K24 -> - | E8: =Sheet1!K32 -> 2340221 | F8: =Sheet1!K40 -> 2340221
B9: =Sheet1!K9 -> - | C9: =Sheet1!K17 -> - | D9: =Sheet1!K25 -> - | E9: =Sheet1!K33 -> 吴凌寻 | F9: =Sheet1!K41 -> 吴凌寻
A10: 7-8 | B10: =Sheet1!K10 -> - | C10: =Sheet1!K18 -> - | D10: =Sheet1!K26 -> - | E10: =Sheet1!K34 -> - | F10: =Sheet1!K42 -> -
B11: =Sheet1!K11 -> - | C11: =Sheet1!K19 -> - | D11: =Sheet1!K27 -> - | E11: =Sheet1!K35 -> - | F11: =Sheet1!K43 -> -
A12: 晚自习

Sheet 宏博楼514
A1: 宏博楼514
A2: =Sheet1!A2 -> （2024至2025学年第1学期） 第 2 周
B3: 星期一 | C3: 星期二 | D3: 星期三 | E3: 星期四 | F3: 星期五
A4: 1-2 | B4: =Sheet1!L4 -> - | C4: =Sheet1!L12 -> - | D4: =Sheet1!L20 -> - | E4: =Sheet1!L28 -> - | F4: =Sheet1!L36 -> -
B5: =Sheet1!L5 -> - | C5: =Sheet1!L13 -> - | D5: =Sheet1!L21 -> - | E5: =Sheet1!L29 -> - | F5: =Sheet1!L37 -> -
A6: 3-4 | B6: =Sheet1!L6 -> - | C6: =Sheet1!L14 -> - | D6: =Sheet1!L22 -> 2340221 | E6: =Sheet1!L30 -> - | F6: =Sheet1!L38 -> -
B7: =Sheet1!L7 -> - | C7: =Sheet1!L15 -> - | D7: =Sheet1!L23 -> 刘颖 | E7: =Sheet1!L31 -> - | F7: =Sheet1!L39 -> -
A8: 5-6 | B8: =Sheet1!L8 -> 2340221 | C8: =Sheet1!L16 -> - | D8: =Sheet1!L24 -> - | E8: =Sheet1!L32 -> - | F8: =Sheet1!L40 -> -
B9: =Sheet1!L9 -> 刘颖 | C9: =Sheet1!L17 -> - | D9: =Sheet1!L25 -> - | E9: =Sheet1!L33 -> - | F9: =Sheet1!L41 -> -
A10: 7-8 | B10: =Sheet1!L10 -> - | C10: =Sheet1!L18 -> - | D10: =Sheet1!L26 -> - | E10: =Sheet1!L34 -> - | F10: =Sheet1!L42 -> -
B11: =Sheet1!L11 -> - | C11: =Sheet1!L19 -> - | D11: =Sheet1!L27 -> - | E11: =Sheet1!L35 -> - | F11: =Sheet1!L43 -> -
A12: 晚自习

Sheet 宏博楼516
A1: 宏博楼516
A2: =Sheet1!A2 -> （2024至2025学年第1学期） 第 2 周
B3: 星期一 | C3: 星期二 | D3: 星期三 | E3: 星期四 | F3: 星期五
A4: 1-2 | B4: =Sheet1!M4 -> - | C4: =Sheet1!M12 -> - | D4: =Sheet1!M20 -> - | E4: =Sheet1!M28 -> 通信2201 | F4: =Sheet1!M36 -> 通信2202
B5: =Sheet1!M5 -> - | C5: =Sheet1!M13 -> - | D5: =Sheet1!M21 -> - | E5: =Sheet1!M29 -> 顾雪韵 | F5: =Sheet1!M37 -> 顾雪韵
A6: 3-4 | B6: =Sheet1!M6 -> - | C6: =Sheet1!M14 -> - | D6: =Sheet1!M22 -> - | E6: =Sheet1!M30 -> - | F6: =Sheet1!M38 -> 通信2202
B7: =Sheet1!M7 -> - | C7: =Sheet1!M15 -> - | D7: =Sheet1!M23 -> - | E7: =Sheet1!M31 -> - | F7: =Sheet1!M39 -> 顾雪韵
A8: 5-6 | B8: =Sheet1!M8 -> - | C8: =Sheet1!M16 -> - | D8: =Sheet1!M24 -> - | E8: =Sheet1!M32 -> - | F8: =Sheet1!M40 -> -
B9: =Sheet1!M9 -> - | C9: =Sheet1!M17 -> - | D9: =Sheet1!M25 -> - | E9: =Sheet1!M33 -> - | F9: =Sheet1!M41 -> -
A10: 7-8 | B10: =Sheet1!M10 -> - | C10: =Sheet1!M18 -> - | D10: =Sheet1!M26 -> - | E10: =Sheet1!M34 -> - | F10: =Sheet1!M42 -> -
B11: =Sheet1!M11 -> - | C11: =Sheet1!M19 -> - | D11: =Sheet1!M27 -> - | E11: =Sheet1!M35 -> - | F11: =Sheet1!M43 -> -
A12: 晚自习
