Workbook

Sheet Sheet1
A1: 计算机课程实验计划安排表 | M1: 计算机课程实验计划安排表 | X1: 计算机课程实验计划安排表
A2: （2024至2025学年第2学期） 第3周 | M2: （2024至2025学年第2学期） 第3周 | X2: （2024至2025学年第2学期） 第2周
C3: 宏博楼103 | D3: 宏博楼108 | E3: 宏博楼202 | F3: 宏博楼206 | G3: 宏博楼208 | H3: 宏博楼209 | I3: 宏博楼210 | J3: 宏博楼212 | K3: 宏博楼301 | L3: 宏博楼302 | O3: 宏博楼303 | P3: 宏博楼304 | Q3: 宏博楼305 | R3: 宏博楼308 | S3: 宏博楼309 | T3: 宏博楼310 | U3: 宏博楼312 | V3: 宏博楼402 | W3: 宏博楼403 | Z3: 宏博楼404 | AA3: 宏博楼406 | AB3: 宏博楼408 | AC3: 宏博楼410 | AD3: 宏博楼515 | AE3: 宏博楼519 | AF3: 宏博楼505
A4: 周一 | B4: 1-2 | C4: 智能交通2302 | D4: 智能交通2401 | E4: 软件2402 | F4: 留学生2301 | G4: - | H4: - | I4: - | J4: 大数据2302 | K4: 无人机2302 | L4: 软件2401 | M4: 周一 | N4: 1-2 | O4: - | P4: 电信2301 | Q4: 大数据2301 | R4: 网络2301 | S4: - | T4: 现代物流2204 | U4: 大数据2401 | V4: 软件2302 | W4: - | X4: 周一 | Y4: 1-2 | Z4: 网络2402 | AA4: 网络2401 | AB4: 网络2302 | AC4: - | AD4: - | AE4: 通信2402 | AF4: 软件2301
C5: 朱萍 | D5: 李涛 | E5: 米洪 | F5: 王强林 | G5: - | H5: - | I5: - | J5: 狄颖 | K5: 周鑫 | L5: 江红伟 | O5: - | P5: 钱玲 | Q5: 张延年 | R5: 刘奇 | S5: - | T5: 李新春 | U5: 张金凤 | V5: 史玉龙 | W5: - | Z5: 张淑梅 | AA5: 王雅琴 | AB5: 戎戟 | AC5: - | AD5: - | AE5: 顾雪韵 | AF5: 卢旻昊
B6: 3-4 | C6: - | D6: - | E6: - | F6: - | G6: 智能交通2402 | H6: - | I6: - | J6: - | K6: - | L6: - | N6: 3-4 | O6: - | P6: - | Q6: - | R6: - | S6: - | T6: 城轨汽车2401 | U6: 建筑造价2403 | V6: 机电2403 | W6: - | Y6: 3-4 | Z6: - | AA6: - | AB6: - | AC6: - | AD6: - | AE6: -
C7: - | D7: - | E7: - | F7: - | G7: 张云 | H7: - | I7: - | J7: - | K7: - | L7: - | O7: - | P7: - | Q7: - | R7: - | S7: - | T7: 李新春 | U7: 张金凤 | V7: 卢旻昊 | W7: - | Z7: - | AA7: - | AB7: - | AC7: - | AD7: - | AE7: -
B8: 5-6 | C8: 智能交通2302 | D8: 智能交通2301 | E8: 道桥2403 | F8: - | G8: 智能交通2401 | H8: - | I8: - | J8: 城轨车辆2402 | K8: - | L8: - | N8: 5-6 | O8: - | P8: - | Q8: - | R8: - | S8: - | T8: 空乘2402 | U8: 汽车检测2402 | V8: - | W8: - | Y8: 5-6 | Z8: 网络2303 | AA8: - | AB8: - | AC8: - | AD8: 通信2401 | AE8: 通信2301
C9: 朱萍 | D9: 李涛 | E9: 易星 | F9: - | G9: 张云 | H9: - | I9: - | J9: 吴兆明 | K9: - | L9: - | O9: - | P9: - | Q9: - | R9: - | S9: - | T9: 张延年 | U9: 狄颖 | V9: - | W9: - | Z9: 戎戟 | AA9: - | AB9: - | AC9: - | AD9: 王琰 | AE9: 顾雪韵
B10: 7-8 | C10: - | D10: - | E10: - | F10: - | G10: - | H10: - | I10: - | J10: - | K10: - | L10: - | N10: 7-8 | O10: - | P10: - | Q10: - | R10: - | S10: - | T10: - | U10: - | V10: - | W10: - | Y10: 7-8 | Z10: - | AA10: - | AB10: - | AC10: - | AD10: - | AE10: -
C11: - | D11: - | E11: - | F11: - | G11: - | H11: - | I11: - | J11: - | K11: - | L11: - | O11: - | P11: - | Q11: - | R11: - | S11: - | T11: - | U11: - | V11: - | W11: - | Z11: - | AA11: - | AB11: - | AC11: - | AD11: - | AE11: -
A12: 周二 | B12: 1-2 | C12: 智能交通2301 | D12: 智能交通2402 | E12: 大数据2401 | F12: 道路检测2302 | G12: 智能交通2401 | H12: - | I12: 电信2401 | J12: 道路检测2402 | K12: 汽车检测2401 | L12: 通信2401 | M12: 周二 | N12: 1-2 | O12: 装饰2402 | P12: 电信2302 | Q12: 软件2301 | R12: 网络2402 | S12: 软件2302 | T12: 大数据2301 | U12: 大数据2302 | V12: 安全管理2402 | W12: 城轨机电2403 | X12: 周二 | Y12: 1-2 | Z12: 网络2301 | AA12: 网络2302 | AB12: 网络2401 | AC12: 机电2401 | AD12: 通信2402 | AE12: 通信2301 | AF12: 软件2402
C13: 吴阳明 | D13: 李涛 | E13: 米洪 | F13: 杜宁 | G13: 张云 | H13: - | I13: 高水娟 | J13: 张超 | K13: 郑莹 | L13: 管宇 | O13: 高进 | P13: 钱玲 | Q13: 史玉龙 | R13: 李扬 | S13: 江红伟 | T13: 卢旻昊 | U13: 狄颖 | V13: 张淑梅 | W13: 吴昊 | Z13: 孙丹东 | AA13: 王雅琴 | AB13: 戎戟 | AC13: 朱兰 | AD13: 王琰 | AE13: 雷小燕 | AF13: 周颖颖
B14: 3-4 | C14: 新能源2403 | D14: - | E14: 智能网联2403 | F14: 建工2404 | G14: 智能交通2402 | H14: - | I14: 电信2402 | J14: 安全管理2401 | K14: 建工2403 | L14: 软件2301 | N14: 3-4 | O14: - | P14: 城轨机电2401 | Q14: 软件2302 | R14: 城轨工程2402 | S14: 机电2404 | T14: 空乘2401 | U14: 工程机械2402 | V14: 道路检测2301 | W14: 城轨通号2401 | Y14: 3-4 | Z14: 网络2301 | AA14: 室内设计2401 | AB14: 网络2302 | AC14: - | AD14: 通信2301 | AE14: 通信2302
C15: 易星 | D15: - | E15: 周颖颖 | F15: 高进 | G15: 张云 | H15: - | I15: 高水娟 | J15: 王宇博 | K15: 王琰 | L15: 赵丹丹 | O15: - | P15: 石杨 | Q15: 史玉龙 | R15: 李扬 | S15: 刘奇 | T15: 张超 | U15: 张金凤 | V15: 杜宁 | W15: 吴昊 | Z15: 孙丹东 | AA15: 苏丹凤 | AB15: 戎戟 | AC15: - | AD15: 管宇 | AE15: 雷小燕
B16: 5-6 | C16: 道路检测2401 | D16: 智能交通2301 | E16: 工程机械2402 | F16: 工程机械2403 | G16: 智能交通2402 | H16: - | I16: 模具2401 | J16: 大数据2401 | K16: 机电2402 | L16: - | N16: 5-6 | O16: - | P16: 城轨机电2402 | Q16: - | R16: 室内设计2402 | S16: - | T16: 新能源2404 | U16: 软件2302 | V16: - | W16: 机器人2401 | Y16: 5-6 | Z16: - | AA16: 智能网联2402 | AB16: - | AC16: - | AD16: 通信2302 | AE16: 汽车营销2402
C17: 吴阳明 | D17: 张云 | E17: 张金凤 | F17: 高进 | G17: 李涛 | H17: - | I17: 刘奇 | J17: 王宇博 | K17: 朱兰 | L17: - | O17: - | P17: 石杨 | Q17: - | R17: 李莉 | S17: - | T17: 易星 | U17: 狄颖 | V17: - | W17: 吴昊 | Z17: - | AA17: 苏丹凤 | AB17: - | AC17: - | AD17: 郑莹 | AE17: 雷小燕
B18: 7-8 | C18: - | D18: - | E18: - | F18: - | G18: - | H18: - | I18: - | J18: - | K18: - | L18: - | N18: 7-8 | O18: - | P18: - | Q18: - | R18: 网络2303 | S18: - | T18: - | U18: - | V18: - | W18: - | Y18: 7-8 | Z18: - | AA18: - | AB18: - | AC18: - | AD18: - | AE18: -
C19: - | D19: - | E19: - | F19: - | G19: - | H19: - | I19: - | J19: - | K19: - | L19: - | O19: - | P19: - | Q19: - | R19: 李莉 | S19: - | T19: - | U19: - | V19: - | W19: - | Z19: - | AA19: - | AB19: - | AC19: - | AD19: - | AE19: -
A20: 周三 | B20: 1-2 | C20: 智能交通2301 | D20: 智能交通2401 | E20: 网络2402 | F20: 大数据2401 | G20: 汽车检测2404 | H20: - | I20: 大数据2302 | J20: 软件2301 | K20: 无人机2302 | L20: 通信2402 | M20: 周三 | N20: 1-2 | O20: - | P20: 电信2302 | Q20: 大数据2301 | R20: 网络2301 | T20: 现代物流2204 | U20: 软件2401 | V20: 留学生234 | W20: - | X20: 周三 | Y20: 1-2 | Z20: 网络2302 | AA20: 网络2401 | AB20: 网络2303 | AC20: - | AD20: 通信2301 | AE20: 通信2302 | AF20: 软件2402
C21: 吴阳明 | D21: 李涛 | E21: 张淑梅 | F21: 王宇博 | G21: 曹明霖 | H21: - | I21: 石丹 | J21: 郭杰 | K21: 周鑫 | L21: 顾雪韵 | O21: - | P21: 钱玲 | Q21: 卢旻昊 | R21: 刘奇 | T21: 李新春 | U21: 张超 | V21: 宫鼎 | W21: - | Z21: 孙丹东 | AA21: 王雅琴 | AB21: 戎戟 | AC21: - | AD21: 郑莹 | AE21: 管宇 | AF21: 周颖颖
B22: 3-4 | C22: 智能交通2301 | D22: 智能交通2402 | E22: 大数据2401 | F22: - | G22: 建筑造价2402 | H22: - | I22: 大数据2301 | J22: - | K22: - | L22: 软件2401 | N22: 3-4 | O22: - | P22: 电信2301 | Q22: 大数据2302 | R22: 网络2303 | S22: - | T22: 现代物流2401 | U22: 软件2302 | V22: 建筑造价2403 | W22: - | Y22: 3-4 | Z22: 网络2302 | AA22: 网络2301 | AB22: 留学生234 | AC22: - | AD22: 通信2302 | AE22: 通信2401 | AF22: 软件2301
C23: 朱萍 | D23: 李涛 | E23: 米洪 | F23: - | G23: 翟永健 | H23: - | I23: 石丹 | J23: - | K23: - | L23: 江红伟 | O23: - | P23: 钱玲 | Q23: 张延年 | R23: 宫鼎 | S23: - | T23: 李新春 | U23: 狄颖 | V23: 张金凤 | W23: - | Z23: 孙丹东 | AA23: 王雅琴 | AB23: 戎戟 | AC23: - | AD23: 郑莹 | AE23: 王琰 | AF23: 卢旻昊
B24: 5-6 | C24: - | D24: - | E24: - | F24: - | G24: - | H24: - | I24: - | J24: - | K24: - | L24: - | N24: 5-6 | O24: - | P24: - | Q24: - | R24: - | S24: - | T24: - | U24: - | V24: - | W24: - | Y24: 5-6 | Z24: - | AA24: - | AB24: - | AC24: - | AD24: - | AE24: -
C25: - | D25: - | E25: - | F25: - | G25: - | H25: - | I25: - | J25: - | K25: - | L25: - | O25: - | P25: - | Q25: - | R25: - | S25: - | T25: - | U25: - | V25: - | W25: - | Z25: - | AA25: - | AB25: - | AD25: - | AE25: -
B26: 7-8 | C26: - | D26: - | E26: - | F26: - | G26: - | H26: - | I26: - | J26: - | K26: - | L26: - | N26: 7-8 | O26: - | P26: - | Q26: - | R26: - | S26: - | T26: - | U26: - | V26: - | W26: - | Y26: 7-8 | Z26: - | AA26: - | AB26: - | AC26: - | AD26: - | AE26: -
C27: - | D27: - | E27: - | F27: - | G27: - | H27: - | I27: - | J27: - | K27: - | L27: - | O27: - | P27: - | Q27: - | R27: - | S27: - | T27: - | U27: - | V27: - | W27: - | Z27: - | AA27: - | AB27: - | AC27: - | AD27: - | AE27: -
A28: 周四 | B28: 1-2 | C28: - | D28: 智能交通2402 | E28: 软件2402 | F28: 智能网联2403 | G28: 装饰2401 | H28: - | I28: 大数据2301 | J28: 软件2302 | K28: 软件2301 | L28: 通信2401 | M28: 周四 | N28: 1-2 | O28: 新能源2404 | P28: 城轨机电2401 | Q28: - | R28: 网络2402 | S28: - | T28: 大数据2302 | U28: 大数据2401 | V28: - | W28: 城轨通号2401 | X28: 周四 | Y28: 1-2 | Z28: 网络2401 | AA28: 网络2301 | AB28: 网络2303 | AC28: - | AD28: 通信2402 | AE28: 道路检测2402
C29: - | D29: 李涛 | E29: 米洪 | F29: 周颖颖 | G29: 苏丹凤 | H29: - | I29: 石丹 | J29: 曹明霖 | K29: 史玉龙 | L29: 管宇 | O29: 易星 | P29: 石杨 | Q29: - | R29: 李扬 | S29: - | T29: 李新春 | U29: 张金凤 | V29: - | W29: 吴昊 | Z29: 戎戟 | AA29: 王雅琴 | AB29: 李莉 | AC29: - | AD29: 王琰 | AE29: 张超
B30: 3-4 | C30: - | D30: - | E30: 机电2403 | F30: 新能源2401 | G30: 智能网联2402 | H30: - | I30: 大数据2301 | J30: 机电2401 | K30: 软件2302 | L30: 工程机械2402 | N30: 3-4 | O30: - | P30: 室内设计2402 | Q30: - | R30: 模具2401 | S30: - | T30: 现代物流2204 | U30: 建工2403 | V30: 新能源2402 | W30: 城轨机电2403 | Y30: 3-4 | Z30: 留学生234 | AA30: 网络2303 | AB30: 城轨机电2402 | AC30: - | AD30: - | AE30: 空乘2402
C31: - | D31: - | E31: 卢旻昊 | F31: 周颖颖 | G31: 苏丹凤 | H31: - | I31: 石丹 | J31: 朱兰 | K31: 江红伟 | L31: 张金凤 | O31: - | P31: 李莉 | Q31: - | R31: 刘奇 | S31: - | T31: 李新春 | U31: 王琰 | V31: 张淑梅 | W31: 吴昊 | Z31: 戎戟 | AA31: 宫鼎 | AB31: 石杨 | AC31: - | AD31: - | AE31: 张延年
B32: 5-6 | C32: 智能交通2302 | D32: - | E32: 港航2401 | F32: 园林2401 | G32: 智能交通2301 | H32: - | I32: - | J32: 城轨车辆2402 | K32: 机电2402 | L32: 园林2402 | N32: 5-6 | O32: - | P32: 道桥2403 | Q32: - | R32: 机电2404 | S32: - | T32: - | U32: 工程机械2402 | V32: 安全管理2402 | W32: 机器人2401 | Y32: 5-6 | Z32: - | AA32: 网络2302 | AB32: 智能网联2401 | AC32: - | AD32: 通信2302 | AE32: 通信2301
C33: 吴阳明 | D33: - | E33: 米洪 | F33: 郭杰 | G33: 李涛 | H33: - | I33: - | J33: 吴兆明 | K33: 朱兰 | L33: 赵丹丹 | O33: - | P33: 易星 | Q33: - | R33: 刘奇 | S33: - | T33: - | U33: 张金凤 | V33: 张淑梅 | W33: 吴昊 | Z33: - | AA33: 王雅琴 | AB33: 李莉 | AC33: - | AD33: 顾雪韵 | AE33: 雷小燕
B34: 7-8 | C34: - | D34: - | E34: - | F34: - | G34: - | H34: - | I34: - | J34: - | K34: - | L34: - | N34: 7-8 | O34: - | P34: - | Q34: - | R34: - | S34: - | T34: - | U34: - | V34: - | W34: - | Y34: 7-8 | Z34: - | AA34: - | AB34: - | AC34: - | AD34: - | AE34: -
C35: - | D35: - | E35: - | F35: - | G35: - | H35: - | I35: - | J35: - | K35: - | L35: - | O35: - | P35: - | Q35: - | R35: - | S35: - | T35: - | U35: - | V35: - | W35: - | Z35: - | AA35: - | AB35: - | AC35: - | AD35: - | AE35: -
A36: 周五 | B36: 1-2 | C36: - | D36: 智能交通2301 | E36: - | F36: 电信2402 | G36: - | H36: - | I36: 大数据2301 | J36: 软件2301 | K36: 无人机2301 | L36: - | M36: 周五 | N36: 1-2 | O36: - | P36: - | Q36: - | R36: 工程机械2403 | S36: - | T36: 大数据2302 | U36: 软件2302 | V36: 道路检测2302 | W36: - | X36: 周五 | Y36: 1-2 | Z36: 网络2303 | AA36: 留学生234 | AB36: 网络2302 | AC36: 网络2301 | AD36: 通信2301 | AE36: 通信2302
C37: - | D37: 张云 | E37: - | F37: 高水娟 | G37: - | H37: - | I37: 石丹 | J37: 郭杰 | K37: 周鑫 | L37: - | O37: - | P37: - | Q37: - | R37: 高进 | S37: - | T37: 李新春 | U37: 曹明霖 | V37: 杜宁 | W37: - | Z37: 孙丹东 | AA37: 宫鼎 | AB37: 李莉 | AC37: 石杨 | AD37: 管宇 | AE37: 雷小燕
B38: 3-4 | C38: 智能交通2301 | D38: - | E38: 大数据2301 | F38: 电信2401 | G38: 室内设计2401 | H38: - | I38: 大数据2302 | J38: 城轨工程2401 | K38: 无人机2301 | L38: 软件2301 | N38: 3-4 | O38: - | P38: 建工2401 | Q38: - | R38: 装饰2402 | S38: - | T38: 现代物流2204 | U38: 软件2401 | V38: 汽车检测2402 | W38: - | Y38: 3-4 | Z38: 网络2303 | AA38: - | AB38: 网络2302 | AC38: 网络2301 | AD38: 通信2301 | AE38: 通信2302
C39: 朱萍 | D39: - | E39: 张延年 | F39: 高水娟 | G39: 苏丹凤 | H39: - | I39: 石丹 | J39: 李扬 | K39: 周鑫 | L39: 赵丹丹 | O39: - | P39: 曹明霖 | Q39: - | R39: 高进 | S39: - | T39: 李新春 | U39: 张超 | V39: 狄颖 | W39: - | Z39: 孙丹东 | AA39: - | AB39: 李莉 | AC39: 石杨 | AD39: 郑莹 | AE39: 管宇
B40: 5-6 | C40: 智能交通2302 | D40: - | E40: 大数据2302 | F40: - | G40: - | H40: - | I40: - | J40: 城轨工程2402 | K40: 无人机2301 | L40: 汽车检测2403 | N40: 5-6 | O40: - | P40: - | Q40: - | R40: - | S40: - | T40: 汽车检测2404 | U40: - | V40: 道路检测2301 | W40: - | Y40: 5-6 | Z40: - | AA40: - | AB40: - | AC40: - | AD40: - | AE40: 汽车营销2402
C41: 吴阳明 | D41: - | E41: 张延年 | F41: - | G41: - | H41: - | I41: - | J41: 李扬 | K41: 周鑫 | L41: 张靓 | O41: - | P41: - | Q41: - | R41: - | S41: - | T41: 曹明霖 | U41: - | V41: 杜宁 | W41: - | Z41: - | AA41: - | AB41: - | AC41: - | AD41: - | AE41: 雷小燕
B42: 7-8 | C42: - | D42: - | E42: - | F42: - | G42: - | H42: - | I42: - | J42: - | K42: - | L42: - | N42: 7-8 | O42: - | P42: - | Q42: - | R42: - | S42: - | T42: - | U42: - | V42: - | W42: - | Y42: 7-8 | Z42: - | AA42: - | AB42: - | AC42: - | AD42: - | AE42: -
C43: - | D43: - | E43: - | F43: - | G43: - | H43: - | I43: - | J43: - | K43: - | L43: - | O43: - | P43: - | Q43: - | R43: - | S43: - | T43: - | U43: - | V43: - | W43: - | Z43: - | AA43: - | AB43: - | AC43: - | AD43: - | AE43: -

Sheet 宏博楼103
A1: 宏博楼103
A2: =Sheet1!A2 -> （2024至2025学年第2学期） 第3周
B3: 星期一 | C3: 星期二 | D3: 星期三 | E3: 星期四 | F3: 星期五
A4: 1-2 | B4: =Sheet1!C4 -> 智能交通2302 | C4: =Sheet1!C12 -> 智能交通2301 | D4: =Sheet1!C20 -> 智能交通2301 | E4: =Sheet1!C28 -> - | F4: =Sheet1!C36 -> -
B5: =Sheet1!C5 -> 朱萍 | C5: =Sheet1!C13 -> 吴阳明 | D5: =Sheet1!C21 -> 吴阳明 | E5: =Sheet1!C29 -> - | F5: =Sheet1!C37 -> -
A6: 3-4 | B6: =Sheet1!C6 -> - | C6: =Sheet1!C14 -> 新能源2403 | D6: =Sheet1!C22 -> 智能交通2301 | E6: =Sheet1!C30 -> - | F6: =Sheet1!C38 -> 智能交通2301
B7: =Sheet1!C7 -> - | C7: =Sheet1!C15 -> 易星 | D7: =Sheet1!C23 -> 朱萍 | E7: =Sheet1!C31 -> - | F7: =Sheet1!C39 -> 朱萍
A8: 5-6 | B8: =Sheet1!C8 -> 智能交通2302 | C8: =Sheet1!C16 -> 道路检测2401 | D8: =Sheet1!C24 -> - | E8: =Sheet1!C32 -> 智能交通2302 | F8: =Sheet1!C40 -> 智能交通2302
B9: =Sheet1!C9 -> 朱萍 | C9: =Sheet1!C17 -> 吴阳明 | D9: =Sheet1!C25 -> - | E9: =Sheet1!C33 -> 吴阳明 | F9: =Sheet1!C41 -> 吴阳明
A10: 7-8 | B10: =Sheet1!C10 -> - | C10: =Sheet1!C18 -> - | D10: =Sheet1!C26 -> - | E10: =Sheet1!C34 -> - | F10: =Sheet1!C42 -> -
B11: =Sheet1!C11 -> - | C11: =Sheet1!C19 -> - | D11: =Sheet1!C27 -> - | E11: =Sheet1!C35 -> - | F11: =Sheet1!C43 -> -
A12: 晚自习

Sheet 宏博楼108
A1: 宏博楼108
A2: =Sheet1!A2 -> （2024至2025学年第2学期） 第3周
B3: 星期一 | C3: 星期二 | D3: 星期三 | E3: 星期四 | F3: 星期五
A4: 1-2 | B4: =Sheet1!D4 -> 智能交通2401 | C4: =Sheet1!D12 -> 智能交通2402 | D4: =Sheet1!D20 -> 智能交通2401 | E4: =Sheet1!D28 -> 智能交通2402 | F4: =Sheet1!D36 -> 智能交通2301
B5: =Sheet1!D5 -> 李涛 | C5: =Sheet1!D13 -> 李涛 | D5: =Sheet1!D21 -> 李涛 | E5: =Sheet1!D29 -> 李涛 | F5: =Sheet1!D37 -> 张云
A6: 3-4 | B6: =Sheet1!D6 -> - | C6: =Sheet1!D14 -> - | D6: =Sheet1!D22 -> 智能交通2402 | E6: =Sheet1!D30 -> - | F6: =Sheet1!D38 -> -
B7: =Sheet1!D7 -> - | C7: =Sheet1!D15 -> - | D7: =Sheet1!D23 -> 李涛 | E7: =Sheet1!D31 -> - | F7: =Sheet1!D39 -> -
A8: 5-6 | B8: =Sheet1!D8 -> 智能交通2301 | C8: =Sheet1!D16 -> 智能交通2301 | D8: =Sheet1!D24 -> - | E8: =Sheet1!D32 -> - | F8: =Sheet1!D40 -> -
B9: =Sheet1!D9 -> 李涛 | C9: =Sheet1!D17 -> 张云 | D9: =Sheet1!D25 -> - | E9: =Sheet1!D33 -> - | F9: =Sheet1!D41 -> -
A10: 7-8 | B10: =Sheet1!D10 -> - | C10: =Sheet1!D18 -> - | D10: =Sheet1!D26 -> - | E10: =Sheet1!D34 -> - | F10: =Sheet1!D42 -> -
B11: =Sheet1!D11 -> - | C11: =Sheet1!D19 -> - | D11: =Sheet1!D27 -> - | E11: =Sheet1!D35 -> - | F11: =Sheet1!D43 -> -
A12: 晚自习

Sheet 宏博楼202
A1: 宏博楼202
A2: =Sheet1!A2 -> （2024至2025学年第2学期） 第3周
B3: 星期一 | C3: 星期二 | D3: 星期三 | E3: 星期四 | F3: 星期五
A4: 1-2 | B4: =Sheet1!E4 -> 软件2402 | C4: =Sheet1!E12 -> 大数据2401 | D4: =Sheet1!E20 -> 网络2402 | E4: =Sheet1!E28 -> 软件2402 | F4: =Sheet1!E36 -> -
B5: =Sheet1!E5 -> 米洪 | C5: =Sheet1!E13 -> 米洪 | D5: =Sheet1!E21 -> 张淑梅 | E5: =Sheet1!E29 -> 米洪 | F5: =Sheet1!E37 -> -
A6: 3-4 | B6: =Sheet1!E6 -> - | C6: =Sheet1!E14 -> 智能网联2403 | D6: =Sheet1!E22 -> 大数据2401 | E6: =Sheet1!E30 -> 机电2403 | F6: =Sheet1!E38 -> 大数据2301
B7: =Sheet1!E7 -> - | C7: =Sheet1!E15 -> 周颖颖 | D7: =Sheet1!E23 -> 米洪 | E7: =Sheet1!E31 -> 卢旻昊 | F7: =Sheet1!E39 -> 张延年
A8: 5-6 | B8: =Sheet1!E8 -> 道桥2403 | C8: =Sheet1!E16 -> 工程机械2402 | D8: =Sheet1!E24 -> - | E8: =Sheet1!E32 -> 港航2401 | F8: =Sheet1!E40 -> 大数据2302
B9: =Sheet1!E9 -> 易星 | C9: =Sheet1!E17 -> 张金凤 | D9: =Sheet1!E25 -> - | E9: =Sheet1!E33 -> 米洪 | F9: =Sheet1!E41 -> 张延年
A10: 7-8 | B10: =Sheet1!E10 -> - | C10: =Sheet1!E18 -> - | D10: =Sheet1!E26 -> - | E10: =Sheet1!E34 -> - | F10: =Sheet1!E42 -> -
B11: =Sheet1!E11 -> - | C11: =Sheet1!E19 -> - | D11: =Sheet1!E27 -> - | E11: =Sheet1!E35 -> - | F11: =Sheet1!E43 -> -
A12: 晚自习

Sheet 宏博楼206
A1: 宏博楼206
A2: =Sheet1!A2 -> （2024至2025学年第2学期） 第3周
B3: 星期一 | C3: 星期二 | D3: 星期三 | E3: 星期四 | F3: 星期五
A4: 1-2 | B4: =Sheet1!F4 -> 留学生2301 | C4: =Sheet1!F12 -> 道路检测2302 | D4: =Sheet1!F20 -> 大数据2401 | E4: =Sheet1!F28 -> 智能网联2403 | F4: =Sheet1!F36 -> 电信2402
B5: =Sheet1!F5 -> 王强林 | C5: =Sheet1!F13 -> 杜宁 | D5: =Sheet1!F21 -> 王宇博 | E5: =Sheet1!F29 -> 周颖颖 | F5: =Sheet1!F37 -> 高水娟
A6: 3-4 | B6: =Sheet1!F6 -> - | C6: =Sheet1!F14 -> 建工2404 | D6: =Sheet1!F22 -> - | E6: =Sheet1!F30 -> 新能源2401 | F6: =Sheet1!F38 -> 电信2401
B7: =Sheet1!F7 -> - | C7: =Sheet1!F15 -> 高进 | D7: =Sheet1!F23 -> - | E7: =Sheet1!F31 -> 周颖颖 | F7: =Sheet1!F39 -> 高水娟
A8: 5-6 | B8: =Sheet1!F8 -> - | C8: =Sheet1!F16 -> 工程机械2403 | D8: =Sheet1!F24 -> - | E8: =Sheet1!F32 -> 园林2401 | F8: =Sheet1!F40 -> -
B9: =Sheet1!F9 -> - | C9: =Sheet1!F17 -> 高进 | D9: =Sheet1!F25 -> - | E9: =Sheet1!F33 -> 郭杰 | F9: =Sheet1!F41 -> -
A10: 7-8 | B10: =Sheet1!F10 -> - | C10: =Sheet1!F18 -> - | D10: =Sheet1!F26 -> - | E10: =Sheet1!F34 -> - | F10: =Sheet1!F42 -> -
B11: =Sheet1!F11 -> - | C11: =Sheet1!F19 -> - | D11: =Sheet1!F27 -> - | E11: =Sheet1!F35 -> - | F11: =Sheet1!F43 -> -
A12: 晚自习

Sheet 宏博楼208
A1: 宏博楼208
A2: =Sheet1!A2 -> （2024至2025学年第2学期） 第3周
B3: 星期一 | C3: 星期二 | D3: 星期三 | E3: 星期四 | F3: 星期五
A4: 1-2 | B4: =Sheet1!G4 -> - | C4: =Sheet1!G12 -> 智能交通2401 | D4: =Sheet1!G20 -> 汽车检测2404 | E4: =Sheet1!G28 -> 装饰2401 | F4: =Sheet1!G36 -> -
B5: =Sheet1!G5 -> - | C5: =Sheet1!G13 -> 张云 | D5: =Sheet1!G21 -> 曹明霖 | E5: =Sheet1!G29 -> 苏丹凤 | F5: =Sheet1!G37 -> -
A6: 3-4 | B6: =Sheet1!G6 -> 智能交通2402 | C6: =Sheet1!G14 -> 智能交通2402 | D6: =Sheet1!G22 -> 建筑造价2402 | E6: =Sheet1!G30 -> 智能网联2402 | F6: =Sheet1!G38 -> 室内设计2401
B7: =Sheet1!G7 -> 张云 | C7: =Sheet1!G15 -> 张云 | D7: =Sheet1!G23 -> 翟永健 | E7: =Sheet1!G31 -> 苏丹凤 | F7: =Sheet1!G39 -> 苏丹凤
A8: 5-6 | B8: =Sheet1!G8 -> 智能交通2401 | C8: =Sheet1!G16 -> 智能交通2402 | D8: =Sheet1!G24 -> - | E8: =Sheet1!G32 -> 智能交通2301 | F8: =Sheet1!G40 -> -
B9: =Sheet1!G9 -> 张云 | C9: =Sheet1!G17 -> 李涛 | D9: =Sheet1!G25 -> - | E9: =Sheet1!G33 -> 李涛 | F9: =Sheet1!G41 -> -
A10: 7-8 | B10: =Sheet1!G10 -> - | C10: =Sheet1!G18 -> - | D10: =Sheet1!G26 -> - | E10: =Sheet1!G34 -> - | F10: =Sheet1!G42 -> -
B11: =Sheet1!G11 -> - | C11: =Sheet1!G19 -> - | D11: =Sheet1!G27 -> - | E11: =Sheet1!G35 -> - | F11: =Sheet1!G43 -> -
A12: 晚自习

Sheet 宏博楼209
A1: 宏博楼209
A2: =Sheet1!A2 -> （2024至2025学年第2学期） 第3周
B3: 星期一 | C3: 星期二 | D3: 星期三 | E3: 星期四 | F3: 星期五
A4: 1-2 | B4: =Sheet1!H4 -> - | C4: =Sheet1!H12 -> - | D4: =Sheet1!H20 -> - | E4: =Sheet1!H28 -> - | F4: =Sheet1!H36 -> -
B5: =Sheet1!H5 -> - | C5: =Sheet1!H13 -> - | D5: =Sheet1!H21 -> - | E5: =Sheet1!H29 -> - | F5: =Sheet1!H37 -> -
A6: 3-4 | B6: =Sheet1!H6 -> - | C6: =Sheet1!H14 -> - | D6: =Sheet1!H22 -> - | E6: =Sheet1!H30 -> - | F6: =Sheet1!H38 -> -
B7: =Sheet1!H7 -> - | C7: =Sheet1!H15 -> - | D7: =Sheet1!H23 -> - | E7: =Sheet1!H31 -> - | F7: =Sheet1!H39 -> -
A8: 5-6 | B8: =Sheet1!H8 -> - | C8: =Sheet1!H16 -> - | D8: =Sheet1!H24 -> - | E8: =Sheet1!H32 -> - | F8: =Sheet1!H40 -> -
B9: =Sheet1!H9 -> - | C9: =Sheet1!H17 -> - | D9: =Sheet1!H25 -> - | E9: =Sheet1!H33 -> - | F9: =Sheet1!H41 -> -
A10: 7-8 | B10: =Sheet1!H10 -> - | C10: =Sheet1!H18 -> - | D10: =Sheet1!H26 -> - | E10: =Sheet1!H34 -> - | F10: =Sheet1!H42 -> -
B11: =Sheet1!H11 -> - | C11: =Sheet1!H19 -> - | D11: =Sheet1!H27 -> - | E11: =Sheet1!H35 -> - | F11: =Sheet1!H43 -> -
A12: 晚自习

Sheet 宏博楼210
A1: 宏博楼210
A2: =Sheet1!A2 -> （2024至2025学年第2学期） 第3周
B3: 星期一 | C3: 星期二 | D3: 星期三 | E3: 星期四 | F3: 星期五
A4: 1-2 | B4: =Sheet1!I4 -> - | C4: =Sheet1!I12 -> 电信2401 | D4: =Sheet1!I20 -> 大数据2302 | E4: =Sheet1!I28 -> 大数据2301 | F4: =Sheet1!I36 -> 大数据2301
B5: =Sheet1!I5 -> - | C5: =Sheet1!I13 -> 高水娟 | D5: =Sheet1!I21 -> 石丹 | E5: =Sheet1!I29 -> 石丹 | F5: =Sheet1!I37 -> 石丹
A6: 3-4 | B6: =Sheet1!I6 -> - | C6: =Sheet1!I14 -> 电信2402 | D6: =Sheet1!I22 -> 大数据2301 | E6: =Sheet1!I30 -> 大数据2301 | F6: =Sheet1!I38 -> 大数据2302
B7: =Sheet1!I7 -> - | C7: =Sheet1!I15 -> 高水娟 | D7: =Sheet1!I23 -> 石丹 | E7: =Sheet1!I31 -> 石丹 | F7: =Sheet1!I39 -> 石丹
A8: 5-6 | B8: =Sheet1!I8 -> - | C8: =Sheet1!I16 -> 模具2401 | D8: =Sheet1!I24 -> - | E8: =Sheet1!I32 -> - | F8: =Sheet1!I40 -> -
B9: =Sheet1!I9 -> - | C9: =Sheet1!I17 -> 刘奇 | D9: =Sheet1!I25 -> - | E9: =Sheet1!I33 -> - | F9: =Sheet1!I41 -> -
A10: 7-8 | B10: =Sheet1!I10 -> - | C10: =Sheet1!I18 -> - | D10: =Sheet1!I26 -> - | E10: =Sheet1!I34 -> - | F10: =Sheet1!I42 -> -
B11: =Sheet1!I11 -> - | C11: =Sheet1!I19 -> - | D11: =Sheet1!I27 -> - | E11: =Sheet1!I35 -> - | F11: =Sheet1!I43 -> -
A12: 晚自习

Sheet 宏博楼212
A1: 宏博楼212
A2: =Sheet1!A2 -> （2024至2025学年第2学期） 第3周
B3: 星期一 | C3: 星期二 | D3: 星期三 | E3: 星期四 | F3: 星期五
A4: 1-2 | B4: =Sheet1!J4 -> 大数据2302 | C4: =Sheet1!J12 -> 道路检测2402 | D4: =Sheet1!J20 -> 软件2301 | E4: =Sheet1!J28 -> 软件2302 | F4: =Sheet1!J36 -> 软件2301
B5: =Sheet1!J5 -> 狄颖 | C5: =Sheet1!J13 -> 张超 | D5: =Sheet1!J21 -> 郭杰 | E5: =Sheet1!J29 -> 曹明霖 | F5: =Sheet1!J37 -> 郭杰
A6: 3-4 | B6: =Sheet1!J6 -> - | C6: =Sheet1!J14 -> 安全管理2401 | D6: =Sheet1!J22 -> - | E6: =Sheet1!J30 -> 机电2401 | F6: =Sheet1!J38 -> 城轨工程2401
B7: =Sheet1!J7 -> - | C7: =Sheet1!J15 -> 王宇博 | D7: =Sheet1!J23 -> - | E7: =Sheet1!J31 -> 朱兰 | F7: =Sheet1!J39 -> 李扬
A8: 5-6 | B8: =Sheet1!J8 -> 城轨车辆2402 | C8: =Sheet1!J16 -> 大数据2401 | D8: =Sheet1!J24 -> - | E8: =Sheet1!J32 -> 城轨车辆2402 | F8: =Sheet1!J40 -> 城轨工程2402
B9: =Sheet1!J9 -> 吴兆明 | C9: =Sheet1!J17 -> 王宇博 | D9: =Sheet1!J25 -> - | E9: =Sheet1!J33 -> 吴兆明 | F9: =Sheet1!J41 -> 李扬
A10: 7-8 | B10: =Sheet1!J10 -> - | C10: =Sheet1!J18 -> - | D10: =Sheet1!J26 -> - | E10: =Sheet1!J34 -> - | F10: =Sheet1!J42 -> -
B11: =Sheet1!J11 -> - | C11: =Sheet1!J19 -> - | D11: =Sheet1!J27 -> - | E11: =Sheet1!J35 -> - | F11: =Sheet1!J43 -> -
A12: 晚自习

Sheet 宏博楼301
A1: 宏博楼301
A2: =Sheet1!A2 -> （2024至2025学年第2学期） 第3周
B3: 星期一 | C3: 星期二 | D3: 星期三 | E3: 星期四 | F3: 星期五
A4: 1-2 | B4: =Sheet1!K4 -> 无人机2302 | C4: =Sheet1!K12 -> 汽车检测2401 | D4: =Sheet1!K20 -> 无人机2302 | E4: =Sheet1!K28 -> 软件2301 | F4: =Sheet1!K36 -> 无人机2301
B5: =Sheet1!K5 -> 周鑫 | C5: =Sheet1!K13 -> 郑莹 | D5: =Sheet1!K21 -> 周鑫 | E5: =Sheet1!K29 -> 史玉龙 | F5: =Sheet1!K37 -> 周鑫
A6: 3-4 | B6: =Sheet1!K6 -> - | C6: =Sheet1!K14 -> 建工2403 | D6: =Sheet1!K22 -> - | E6: =Sheet1!K30 -> 软件2302 | F6: =Sheet1!K38 -> 无人机2301
B7: =Sheet1!K7 -> - | C7: =Sheet1!K15 -> 王琰 | D7: =Sheet1!K23 -> - | E7: =Sheet1!K31 -> 江红伟 | F7: =Sheet1!K39 -> 周鑫
A8: 5-6 | B8: =Sheet1!K8 -> - | C8: =Sheet1!K16 -> 机电2402 | D8: =Sheet1!K24 -> - | E8: =Sheet1!K32 -> 机电2402 | F8: =Sheet1!K40 -> 无人机2301
B9: =Sheet1!K9 -> - | C9: =Sheet1!K17 -> 朱兰 | D9: =Sheet1!K25 -> - | E9: =Sheet1!K33 -> 朱兰 | F9: =Sheet1!K41 -> 周鑫
A10: 7-8 | B10: =Sheet1!K10 -> - | C10: =Sheet1!K18 -> - | D10: =Sheet1!K26 -> - | E10: =Sheet1!K34 -> - | F10: =Sheet1!K42 -> -
B11: =Sheet1!K11 -> - | C11: =Sheet1!K19 -> - | D11: =Sheet1!K27 -> - | E11: =Sheet1!K35 -> - | F11: =Sheet1!K43 -> -
A12: 晚自习

Sheet 宏博楼302
A1: 宏博楼302
A2: =Sheet1!A2 -> （2024至2025学年第2学期） 第3周
B3: 星期一 | C3: 星期二 | D3: 星期三 | E3: 星期四 | F3: 星期五
A4: 1-2 | B4: =Sheet1!L4 -> 软件2401 | C4: =Sheet1!L12 -> 通信2401 | D4: =Sheet1!L20 -> 通信2402 | E4: =Sheet1!L28 -> 通信2401 | F4: =Sheet1!L36 -> -
B5: =Sheet1!L5 -> 江红伟 | C5: =Sheet1!L13 -> 管宇 | D5: =Sheet1!L21 -> 顾雪韵 | E5: =Sheet1!L29 -> 管宇 | F5: =Sheet1!L37 -> -
A6: 3-4 | B6: =Sheet1!L6 -> - | C6: =Sheet1!L14 -> 软件2301 | D6: =Sheet1!L22 -> 软件2401 | E6: =Sheet1!L30 -> 工程机械2402 | F6: =Sheet1!L38 -> 软件2301
B7: =Sheet1!L7 -> - | C7: =Sheet1!L15 -> 赵丹丹 | D7: =Sheet1!L23 -> 江红伟 | E7: =Sheet1!L31 -> 张金凤 | F7: =Sheet1!L39 -> 赵丹丹
A8: 5-6 | B8: =Sheet1!L8 -> - | C8: =Sheet1!L16 -> - | D8: =Sheet1!L24 -> - | E8: =Sheet1!L32 -> 园林2402 | F8: =Sheet1!#REF! -> #REF!
B9: =Sheet1!L9 -> - | C9: =Sheet1!L17 -> - | D9: =Sheet1!L25 -> - | E9: =Sheet1!L33 -> 赵丹丹 | F9: =Sheet1!#REF! -> #REF!
A10: 7-8 | B10: =Sheet1!L10 -> - | C10: =Sheet1!L18 -> - | D10: =Sheet1!L26 -> - | E10: =Sheet1!L34 -> - | F10: =Sheet1!L42 -> -
B11: =Sheet1!L11 -> - | C11: =Sheet1!L19 -> - | D11: =Sheet1!L27 -> - | E11: =Sheet1!L35 -> - | F11: =Sheet1!L43 -> -
A12: 晚自习

Sheet 宏博楼303
A1: 宏博楼303
A2: =Sheet1!M2 -> （2024至2025学年第2学期） 第3周
B3: 星期一 | C3: 星期二 | D3: 星期三 | E3: 星期四 | F3: 星期五
A4: 1-2 | B4: =Sheet1!O4 -> - | C4: =Sheet1!O12 -> 装饰2402 | D4: =Sheet1!O20 -> - | E4: =Sheet1!O28 -> 新能源2404 | F4: =Sheet1!O36 -> -
B5: =Sheet1!O5 -> - | C5: =Sheet1!O13 -> 高进 | D5: =Sheet1!O21 -> - | E5: =Sheet1!O29 -> 易星 | F5: =Sheet1!O37 -> -
A6: 3-4 | B6: =Sheet1!O6 -> - | C6: =Sheet1!O14 -> - | D6: =Sheet1!O22 -> - | E6: =Sheet1!O30 -> - | F6: =Sheet1!O38 -> -
B7: =Sheet1!O7 -> - | C7: =Sheet1!O15 -> - | D7: =Sheet1!O23 -> - | E7: =Sheet1!O31 -> - | F7: =Sheet1!O39 -> -
A8: 5-6 | B8: =Sheet1!O8 -> - | C8: =Sheet1!O16 -> - | D8: =Sheet1!O24 -> - | E8: =Sheet1!O32 -> - | F8: =Sheet1!O40 -> -
B9: =Sheet1!O9 -> - | C9: =Sheet1!O17 -> - | D9: =Sheet1!O25 -> - | E9: =Sheet1!O33 -> - | F9: =Sheet1!O41 -> -
A10: 7-8 | B10: =Sheet1!O10 -> - | C10: =Sheet1!O18 -> - | D10: =Sheet1!O26 -> - | E10: =Sheet1!O34 -> - | F10: =Sheet1!O42 -> -
B11: =Sheet1!O11 -> - | C11: =Sheet1!O19 -> - | D11: =Sheet1!O27 -> - | E11: =Sheet1!O35 -> - | F11: =Sheet1!O43 -> -
A12: 晚自习

Sheet 宏博楼304
A1: 宏博楼304
A2: =Sheet1!M2 -> （2024至2025学年第2学期） 第3周
B3: 星期一 | C3: 星期二 | D3: 星期三 | E3: 星期四 | F3: 星期五
A4: 1-2 | B4: =Sheet1!P4 -> 电信2301 | C4: =Sheet1!P12 -> 电信2302 | D4: =Sheet1!P20 -> 电信2302 | E4: =Sheet1!P28 -> 城轨机电2401 | F4: =Sheet1!P36 -> -
B5: =Sheet1!P5 -> 钱玲 | C5: =Sheet1!P13 -> 钱玲 | D5: =Sheet1!P21 -> 钱玲 | E5: =Sheet1!P29 -> 石杨 | F5: =Sheet1!P37 -> -
A6: 3-4 | B6: =Sheet1!P6 -> - | C6: =Sheet1!P14 -> 城轨机电2401 | D6: =Sheet1!P22 -> 电信2301 | E6: =Sheet1!P30 -> 室内设计2402 | F6: =Sheet1!P38 -> 建工2401
B7: =Sheet1!P7 -> - | C7: =Sheet1!P15 -> 石杨 | D7: =Sheet1!P23 -> 钱玲 | E7: =Sheet1!P31 -> 李莉 | F7: =Sheet1!P39 -> 曹明霖
A8: 5-6 | B8: =Sheet1!P8 -> - | C8: =Sheet1!P16 -> 城轨机电2402 | D8: =Sheet1!P24 -> - | E8: =Sheet1!P32 -> 道桥2403 | F8: =Sheet1!P40 -> -
B9: =Sheet1!P9 -> - | C9: =Sheet1!P17 -> 石杨 | D9: =Sheet1!P25 -> - | E9: =Sheet1!P33 -> 易星 | F9: =Sheet1!P41 -> -
A10: 7-8 | B10: =Sheet1!P10 -> - | C10: =Sheet1!P18 -> - | D10: =Sheet1!P26 -> - | E10: =Sheet1!P34 -> - | F10: =Sheet1!P42 -> -
B11: =Sheet1!P11 -> - | C11: =Sheet1!P19 -> - | D11: =Sheet1!P27 -> - | E11: =Sheet1!P35 -> - | F11: =Sheet1!P43 -> -
A12: 晚自习

Sheet 宏博楼305
A1: 宏博楼305
A2: =Sheet1!M2 -> （2024至2025学年第2学期） 第3周
B3: 星期一 | C3: 星期二 | D3: 星期三 | E3: 星期四 | F3: 星期五
A4: 1-2 | B4: =Sheet1!Q4 -> 大数据2301 | C4: =Sheet1!Q12 -> 软件2301 | D4: =Sheet1!Q20 -> 大数据2301 | E4: =Sheet1!Q28 -> - | F4: =Sheet1!Q36 -> -
B5: =Sheet1!Q5 -> 张延年 | C5: =Sheet1!Q13 -> 史玉龙 | D5: =Sheet1!Q21 -> 卢旻昊 | E5: =Sheet1!Q29 -> - | F5: =Sheet1!Q37 -> -
A6: 3-4 | B6: =Sheet1!Q6 -> - | C6: =Sheet1!Q14 -> 软件2302 | D6: =Sheet1!Q22 -> 大数据2302 | E6: =Sheet1!Q30 -> - | F6: =Sheet1!Q38 -> -
B7: =Sheet1!Q7 -> - | C7: =Sheet1!Q15 -> 史玉龙 | D7: =Sheet1!Q23 -> 张延年 | E7: =Sheet1!Q31 -> - | F7: =Sheet1!Q39 -> -
A8: 5-6 | B8: =Sheet1!Q8 -> - | C8: =Sheet1!Q16 -> - | D8: =Sheet1!Q24 -> - | E8: =Sheet1!Q32 -> - | F8: =Sheet1!Q40 -> -
B9: =Sheet1!Q9 -> - | C9: =Sheet1!Q17 -> - | D9: =Sheet1!Q25 -> - | E9: =Sheet1!Q33 -> - | F9: =Sheet1!Q41 -> -
A10: 7-8 | B10: =Sheet1!Q10 -> - | C10: =Sheet1!Q18 -> - | D10: =Sheet1!Q26 -> - | E10: =Sheet1!Q34 -> - | F10: =Sheet1!Q42 -> -
B11: =Sheet1!Q11 -> - | C11: =Sheet1!Q19 -> - | D11: =Sheet1!Q27 -> - | E11: =Sheet1!Q35 -> - | F11: =Sheet1!Q43 -> -
A12: 晚自习

Sheet 宏博楼308
A1: 宏博楼308
A2: =Sheet1!M2 -> （2024至2025学年第2学期） 第3周
B3: 星期一 | C3: 星期二 | D3: 星期三 | E3: 星期四 | F3: 星期五
A4: 1-2 | B4: =Sheet1!R4 -> 网络2301 | C4: =Sheet1!R12 -> 网络2402 | D4: =Sheet1!R20 -> 网络2301 | E4: =Sheet1!R28 -> 网络2402 | F4: =Sheet1!R36 -> 工程机械2403
B5: =Sheet1!R5 -> 刘奇 | C5: =Sheet1!R13 -> 李扬 | D5: =Sheet1!R21 -> 刘奇 | E5: =Sheet1!R29 -> 李扬 | F5: =Sheet1!R37 -> 高进
A6: 3-4 | B6: =Sheet1!R6 -> - | C6: =Sheet1!R14 -> 城轨工程2402 | D6: =Sheet1!R22 -> 网络2303 | E6: =Sheet1!R30 -> 模具2401 | F6: =Sheet1!R38 -> 装饰2402
B7: =Sheet1!R7 -> - | C7: =Sheet1!R15 -> 李扬 | D7: =Sheet1!R23 -> 宫鼎 | E7: =Sheet1!R31 -> 刘奇 | F7: =Sheet1!R39 -> 高进
A8: 5-6 | B8: =Sheet1!R8 -> - | C8: =Sheet1!R16 -> 室内设计2402 | D8: =Sheet1!R24 -> - | E8: =Sheet1!R32 -> 机电2404 | F8: =Sheet1!R40 -> -
B9: =Sheet1!R9 -> - | C9: =Sheet1!R17 -> 李莉 | D9: =Sheet1!R25 -> - | E9: =Sheet1!R33 -> 刘奇 | F9: =Sheet1!R41 -> -
A10: 7-8 | B10: =Sheet1!R10 -> - | C10: =Sheet1!R18 -> 网络2303 | D10: =Sheet1!R26 -> - | E10: =Sheet1!R34 -> - | F10: =Sheet1!R42 -> -
B11: =Sheet1!R11 -> - | C11: =Sheet1!R19 -> 李莉 | D11: =Sheet1!R27 -> - | E11: =Sheet1!R35 -> - | F11: =Sheet1!R43 -> -
A12: 晚自习

Sheet 宏博楼309
A1: 宏博楼309
A2: =Sheet1!M2 -> （2024至2025学年第2学期） 第3周
B3: 星期一 | C3: 星期二 | D3: 星期三 | E3: 星期四 | F3: 星期五
A4: 1-2 | B4: =Sheet1!S4 -> - | C4: =Sheet1!S12 -> 软件2302 | D4: =Sheet1!S20 -> 0 | E4: =Sheet1!S28 -> - | F4: =Sheet1!S36 -> -
B5: =Sheet1!S5 -> - | C5: =Sheet1!S13 -> 江红伟 | D5: =Sheet1!S21 -> 0 | E5: =Sheet1!S29 -> - | F5: =Sheet1!S37 -> -
A6: 3-4 | B6: =Sheet1!S6 -> - | C6: =Sheet1!S14 -> 机电2404 | D6: =Sheet1!S22 -> - | E6: =Sheet1!S30 -> - | F6: =Sheet1!S38 -> -
B7: =Sheet1!S7 -> - | C7: =Sheet1!S15 -> 刘奇 | D7: =Sheet1!S23 -> - | E7: =Sheet1!S31 -> - | F7: =Sheet1!S39 -> -
A8: 5-6 | B8: - | C8: =Sheet1!S16 -> - | D8: =Sheet1!S24 -> - | E8: =Sheet1!S32 -> - | F8: =Sheet1!S40 -> -
B9: - | C9: =Sheet1!S17 -> - | D9: =Sheet1!S25 -> - | E9: =Sheet1!S33 -> - | F9: =Sheet1!S41 -> -
A10: 7-8 | B10: - | C10: =Sheet1!S18 -> - | D10: =Sheet1!S26 -> - | E10: =Sheet1!S34 -> - | F10: =Sheet1!S42 -> -
B11: =Sheet1!S9 -> - | C11: =Sheet1!S19 -> - | D11: =Sheet1!S27 -> - | E11: =Sheet1!S35 -> - | F11: =Sheet1!S43 -> -
A12: 晚自习

Sheet 宏博楼310
A1: 宏博楼310
A2: =Sheet1!M2 -> （2024至2025学年第2学期） 第3周
B3: 星期一 | C3: 星期二 | D3: 星期三 | E3: 星期四 | F3: 星期五
A4: 1-2 | B4: =Sheet1!T4 -> 现代物流2204 | C4: =Sheet1!T12 -> 大数据2301 | D4: =Sheet1!T20 -> 现代物流2204 | E4: =Sheet1!T28 -> 大数据2302 | F4: =Sheet1!T36 -> 大数据2302
B5: =Sheet1!T5 -> 李新春 | C5: =Sheet1!T13 -> 卢旻昊 | D5: =Sheet1!T21 -> 李新春 | E5: =Sheet1!T29 -> 李新春 | F5: =Sheet1!T37 -> 李新春
A6: 3-4 | B6: =Sheet1!T6 -> 城轨汽车2401 | C6: =Sheet1!T14 -> 空乘2401 | D6: =Sheet1!T22 -> 现代物流2401 | E6: =Sheet1!T30 -> 现代物流2204 | F6: =Sheet1!T38 -> 现代物流2204
B7: =Sheet1!T7 -> 李新春 | C7: =Sheet1!T15 -> 张超 | D7: =Sheet1!T23 -> 李新春 | E7: =Sheet1!T31 -> 李新春 | F7: =Sheet1!T39 -> 李新春
A8: 5-6 | B8: =Sheet1!T8 -> 空乘2402 | C8: =Sheet1!T16 -> 新能源2404 | D8: =Sheet1!T24 -> - | E8: =Sheet1!T32 -> - | F8: =Sheet1!T40 -> 汽车检测2404
B9: =Sheet1!T9 -> 张延年 | C9: =Sheet1!T17 -> 易星 | D9: =Sheet1!T25 -> - | E9: =Sheet1!T33 -> - | F9: =Sheet1!T41 -> 曹明霖
A10: 7-8 | B10: =Sheet1!T10 -> - | C10: =Sheet1!T18 -> - | D10: =Sheet1!T26 -> - | E10: =Sheet1!T34 -> - | F10: =Sheet1!T42 -> -
B11: =Sheet1!T11 -> - | C11: =Sheet1!T19 -> - | D11: =Sheet1!T27 -> - | E11: =Sheet1!T35 -> - | F11: =Sheet1!T43 -> -
A12: 晚自习

Sheet 宏博楼312
A1: 宏博楼312
A2: =Sheet1!M2 -> （2024至2025学年第2学期） 第3周
B3: 星期一 | C3: 星期二 | D3: 星期三 | E3: 星期四 | F3: 星期五
A4: 1-2 | B4: =Sheet1!U4 -> 大数据2401 | C4: =Sheet1!U12 -> 大数据2302 | D4: =Sheet1!U20 -> 软件2401 | E4: =Sheet1!U28 -> 大数据2401 | F4: =Sheet1!U36 -> 软件2302
B5: =Sheet1!U5 -> 张金凤 | C5: =Sheet1!U13 -> 狄颖 | D5: =Sheet1!U21 -> 张超 | E5: =Sheet1!U29 -> 张金凤 | F5: =Sheet1!U37 -> 曹明霖
A6: 3-4 | B6: =Sheet1!U6 -> 建筑造价2403 | C6: =Sheet1!U14 -> 工程机械2402 | D6: =Sheet1!U22 -> 软件2302 | E6: =Sheet1!U30 -> 建工2403 | F6: =Sheet1!U38 -> 软件2401
B7: =Sheet1!U7 -> 张金凤 | C7: =Sheet1!U15 -> 张金凤 | D7: =Sheet1!U23 -> 狄颖 | E7: =Sheet1!U31 -> 王琰 | F7: =Sheet1!U39 -> 张超
A8: 5-6 | B8: =Sheet1!U8 -> 汽车检测2402 | C8: =Sheet1!U16 -> 软件2302 | D8: =Sheet1!U24 -> - | E8: =Sheet1!U32 -> 工程机械2402 | F8: =Sheet1!U40 -> -
B9: =Sheet1!U9 -> 狄颖 | C9: =Sheet1!U17 -> 狄颖 | D9: =Sheet1!U25 -> - | E9: =Sheet1!U33 -> 张金凤 | F9: =Sheet1!U41 -> -
A10: 7-8 | B10: =Sheet1!U10 -> - | C10: =Sheet1!U18 -> - | D10: =Sheet1!U26 -> - | E10: =Sheet1!U34 -> - | F10: =Sheet1!U42 -> -
B11: =Sheet1!U11 -> - | C11: =Sheet1!U19 -> - | D11: =Sheet1!U27 -> - | E11: =Sheet1!U35 -> - | F11: =Sheet1!U43 -> -
A12: 晚自习

Sheet 宏博楼402
A1: 宏博楼402
A2: =Sheet1!M2 -> （2024至2025学年第2学期） 第3周
B3: 星期一 | C3: 星期二 | D3: 星期三 | E3: 星期四 | F3: 星期五
A4: 1-2 | B4: =Sheet1!V4 -> 软件2302 | C4: =Sheet1!V12 -> 安全管理2402 | D4: =Sheet1!V20 -> 留学生234 | E4: =Sheet1!V28 -> - | F4: =Sheet1!V36 -> 道路检测2302
B5: =Sheet1!V5 -> 史玉龙 | C5: =Sheet1!V13 -> 张淑梅 | D5: =Sheet1!V21 -> 宫鼎 | E5: =Sheet1!V29 -> - | F5: =Sheet1!V37 -> 杜宁
A6: 3-4 | B6: =Sheet1!V6 -> 机电2403 | C6: =Sheet1!V14 -> 道路检测2301 | D6: =Sheet1!V22 -> 建筑造价2403 | E6: =Sheet1!V30 -> 新能源2402 | F6: =Sheet1!V38 -> 汽车检测2402
B7: =Sheet1!V7 -> 卢旻昊 | C7: =Sheet1!V15 -> 杜宁 | D7: =Sheet1!V23 -> 张金凤 | E7: =Sheet1!V31 -> 张淑梅 | F7: =Sheet1!V39 -> 狄颖
A8: 5-6 | B8: =Sheet1!V8 -> - | C8: =Sheet1!V16 -> - | D8: =Sheet1!V24 -> - | E8: =Sheet1!V32 -> 安全管理2402 | F8: =Sheet1!V40 -> 道路检测2301
B9: =Sheet1!V9 -> - | C9: =Sheet1!V17 -> - | D9: =Sheet1!V25 -> - | E9: =Sheet1!V33 -> 张淑梅 | F9: =Sheet1!V41 -> 杜宁
A10: 7-8 | B10: =Sheet1!V10 -> - | C10: =Sheet1!V18 -> - | D10: =Sheet1!V26 -> - | E10: =Sheet1!V34 -> - | F10: =Sheet1!V42 -> -
B11: =Sheet1!V11 -> - | C11: =Sheet1!V19 -> - | D11: =Sheet1!V27 -> - | E11: =Sheet1!V35 -> - | F11: =Sheet1!V43 -> -
A12: 晚自习

Sheet 宏博楼403
A1: 宏博楼403
A2: =Sheet1!M2 -> （2024至2025学年第2学期） 第3周
B3: 星期一 | C3: 星期二 | D3: 星期三 | E3: 星期四 | F3: 星期五
A4: 1-2 | B4: =Sheet1!W4 -> - | C4: =Sheet1!W12 -> 城轨机电2403 | D4: =Sheet1!W20 -> - | E4: =Sheet1!W28 -> 城轨通号2401 | F4: =Sheet1!W36 -> -
B5: =Sheet1!W5 -> - | C5: =Sheet1!W13 -> 吴昊 | D5: =Sheet1!W21 -> - | E5: =Sheet1!W29 -> 吴昊 | F5: =Sheet1!W37 -> -
A6: 3-4 | B6: =Sheet1!W6 -> - | C6: =Sheet1!W14 -> 城轨通号2401 | D6: =Sheet1!W22 -> - | E6: =Sheet1!W30 -> 城轨机电2403 | F6: =Sheet1!W38 -> -
B7: =Sheet1!W7 -> - | C7: =Sheet1!W15 -> 吴昊 | D7: =Sheet1!W23 -> - | E7: =Sheet1!W31 -> 吴昊 | F7: =Sheet1!W39 -> -
A8: 5-6 | B8: =Sheet1!W8 -> - | C8: =Sheet1!W16 -> 机器人2401 | D8: =Sheet1!W24 -> - | E8: =Sheet1!W32 -> 机器人2401 | F8: =Sheet1!L40 -> 汽车检测2403
B9: =Sheet1!W9 -> - | C9: =Sheet1!W17 -> 吴昊 | D9: =Sheet1!W25 -> - | E9: =Sheet1!W33 -> 吴昊 | F9: =Sheet1!L41 -> 张靓
A10: 7-8 | B10: =Sheet1!W10 -> - | C10: =Sheet1!W18 -> - | D10: =Sheet1!W26 -> - | E10: =Sheet1!W34 -> - | F10: =Sheet1!W42 -> -
B11: =Sheet1!W11 -> - | C11: =Sheet1!W19 -> - | D11: =Sheet1!W27 -> - | E11: =Sheet1!W35 -> - | F11: =Sheet1!W43 -> -
A12: 晚自习

Sheet 宏博楼404
A1: 宏博楼404
A2: =Sheet1!M2 -> （2024至2025学年第2学期） 第3周
B3: 星期一 | C3: 星期二 | D3: 星期三 | E3: 星期四 | F3: 星期五
A4: 1-2 | B4: =Sheet1!Z4 -> 网络2402 | C4: =Sheet1!Z12 -> 网络2301 | D4: =Sheet1!Z20 -> 网络2302 | E4: =Sheet1!Z28 -> 网络2401 | F4: =Sheet1!Z36 -> 网络2303
B5: =Sheet1!Z5 -> 张淑梅 | C5: =Sheet1!Z13 -> 孙丹东 | D5: =Sheet1!Z21 -> 孙丹东 | E5: =Sheet1!Z29 -> 戎戟 | F5: =Sheet1!Z37 -> 孙丹东
A6: 3-4 | B6: =Sheet1!Z6 -> - | C6: =Sheet1!Z14 -> 网络2301 | D6: =Sheet1!Z22 -> 网络2302 | E6: =Sheet1!Z30 -> 留学生234 | F6: =Sheet1!Z38 -> 网络2303
B7: =Sheet1!Z7 -> - | C7: =Sheet1!Z15 -> 孙丹东 | D7: =Sheet1!Z23 -> 孙丹东 | E7: =Sheet1!Z31 -> 戎戟 | F7: =Sheet1!Z39 -> 孙丹东
A8: 5-6 | B8: =Sheet1!Z8 -> 网络2303 | C8: =Sheet1!Z16 -> - | D8: =Sheet1!Z24 -> - | E8: =Sheet1!Z32 -> - | F8: =Sheet1!Z40 -> -
B9: =Sheet1!Z9 -> 戎戟 | C9: =Sheet1!Z17 -> - | D9: =Sheet1!Z25 -> - | E9: =Sheet1!Z33 -> - | F9: =Sheet1!Z41 -> -
A10: 7-8 | B10: =Sheet1!Z10 -> - | C10: =Sheet1!Z18 -> - | D10: =Sheet1!Z26 -> - | E10: =Sheet1!Z34 -> - | F10: =Sheet1!Z42 -> -
B11: =Sheet1!Z11 -> - | C11: =Sheet1!Z19 -> - | D11: =Sheet1!Z27 -> - | E11: =Sheet1!Z35 -> - | F11: =Sheet1!Z43 -> -
A12: 晚自习

Sheet 宏博楼406
A1: 宏博楼406
A2: =Sheet1!M2 -> （2024至2025学年第2学期） 第3周
B3: 星期一 | C3: 星期二 | D3: 星期三 | E3: 星期四 | F3: 星期五
A4: 1-2 | B4: =Sheet1!AA4 -> 网络2401 | C4: =Sheet1!AA12 -> 网络2302 | D4: =Sheet1!AA20 -> 网络2401 | E4: =Sheet1!AA28 -> 网络2301 | F4: =Sheet1!AA36 -> 留学生234
B5: =Sheet1!AA5 -> 王雅琴 | C5: =Sheet1!AA13 -> 王雅琴 | D5: =Sheet1!AA21 -> 王雅琴 | E5: =Sheet1!AA29 -> 王雅琴 | F5: =Sheet1!AA37 -> 宫鼎
A6: 3-4 | B6: =Sheet1!AA6 -> - | C6: =Sheet1!AA14 -> 室内设计2401 | D6: =Sheet1!AA22 -> 网络2301 | E6: =Sheet1!AA30 -> 网络2303 | F6: =Sheet1!AA38 -> -
B7: =Sheet1!AA7 -> - | C7: =Sheet1!AA15 -> 苏丹凤 | D7: =Sheet1!AA23 -> 王雅琴 | E7: =Sheet1!AA31 -> 宫鼎 | F7: =Sheet1!AA39 -> -
A8: 5-6 | B8: =Sheet1!AA8 -> - | C8: =Sheet1!AA16 -> 智能网联2402 | D8: =Sheet1!AA24 -> - | E8: =Sheet1!AA32 -> 网络2302 | F8: =Sheet1!AA40 -> -
B9: =Sheet1!AA9 -> - | C9: =Sheet1!AA17 -> 苏丹凤 | D9: =Sheet1!AA25 -> - | E9: =Sheet1!AA33 -> 王雅琴 | F9: =Sheet1!AA41 -> -
A10: 7-8 | B10: =Sheet1!AA10 -> - | C10: =Sheet1!AA18 -> - | D10: =Sheet1!AA26 -> - | E10: =Sheet1!AA34 -> - | F10: =Sheet1!AA42 -> -
B11: =Sheet1!AA11 -> - | C11: =Sheet1!AA19 -> - | D11: =Sheet1!AA27 -> - | E11: =Sheet1!AA35 -> - | F11: =Sheet1!AA43 -> -
A12: 晚自习

Sheet 宏博楼408
A1: 宏博楼408
A2: =Sheet1!M2 -> （2024至2025学年第2学期） 第3周
B3: 星期一 | C3: 星期二 | D3: 星期三 | E3: 星期四 | F3: 星期五
A4: 1-2 | B4: =Sheet1!AB4 -> 网络2302 | C4: =Sheet1!AB12 -> 网络2401 | D4: =Sheet1!AB20 -> 网络2303 | E4: =Sheet1!AB28 -> 网络2303 | F4: =Sheet1!AB36 -> 网络2302
B5: =Sheet1!AB5 -> 戎戟 | C5: =Sheet1!AB13 -> 戎戟 | D5: =Sheet1!AB21 -> 戎戟 | E5: =Sheet1!AB29 -> 李莉 | F5: =Sheet1!AB37 -> 李莉
A6: 3-4 | B6: =Sheet1!AB6 -> - | C6: =Sheet1!AB14 -> 网络2302 | D6: =Sheet1!AB22 -> 留学生234 | E6: =Sheet1!AB30 -> 城轨机电2402 | F6: =Sheet1!AB38 -> 网络2302
B7: =Sheet1!AB7 -> - | C7: =Sheet1!AB15 -> 戎戟 | D7: =Sheet1!AB23 -> 戎戟 | E7: =Sheet1!AB31 -> 石杨 | F7: =Sheet1!AB39 -> 李莉
A8: 5-6 | B8: =Sheet1!AB8 -> - | C8: =Sheet1!AB16 -> - | D8: =Sheet1!AB24 -> - | E8: =Sheet1!AB32 -> 智能网联2401 | F8: =Sheet1!AB40 -> -
B9: =Sheet1!AB9 -> - | C9: =Sheet1!AB17 -> - | D9: =Sheet1!AB25 -> - | E9: =Sheet1!AB33 -> 李莉 | F9: =Sheet1!AB41 -> -
A10: 7-8 | B10: =Sheet1!AB10 -> - | C10: =Sheet1!AB18 -> - | D10: =Sheet1!AB26 -> - | E10: =Sheet1!AB34 -> - | F10: =Sheet1!AB42 -> -
B11: =Sheet1!AB11 -> - | C11: =Sheet1!AB19 -> - | D11: =Sheet1!AB27 -> - | E11: =Sheet1!AB35 -> - | F11: =Sheet1!AB43 -> -
A12: 晚自习

Sheet 宏博楼410
A1: 宏博楼410
A2: =Sheet1!M2 -> （2024至2025学年第2学期） 第3周
B3: 星期一 | C3: 星期二 | D3: 星期三 | E3: 星期四 | F3: 星期五 | G3: 星期六
A4: 1-2 | B4: =Sheet1!AC4 -> - | C4: =Sheet1!AC12 -> 机电2401 | D4: =Sheet1!AC20 -> - | E4: =Sheet1!AC28 -> - | F4: =Sheet1!AC36 -> 网络2301 | G4: =Sheet1!#REF! -> #REF!
B5: =Sheet1!AC5 -> - | C5: =Sheet1!AC13 -> 朱兰 | D5: =Sheet1!AC21 -> - | E5: =Sheet1!AC29 -> - | F5: =Sheet1!AC37 -> 石杨 | G5: =Sheet1!#REF! -> #REF!
A6: 3-4 | B6: =Sheet1!AC6 -> - | C6: =Sheet1!AC14 -> - | D6: =Sheet1!AC22 -> - | E6: =Sheet1!AC30 -> - | F6: =Sheet1!AC38 -> 网络2301 | G6: =Sheet1!#REF! -> #REF!
B7: =Sheet1!AC7 -> - | C7: =Sheet1!AC15 -> - | D7: =Sheet1!AC23 -> - | E7: =Sheet1!AC31 -> - | F7: =Sheet1!AC39 -> 石杨 | G7: =Sheet1!#REF! -> #REF!
A8: 5-6 | B8: =Sheet1!AC8 -> - | C8: =Sheet1!AC16 -> - | D8: =Sheet1!AC24 -> - | E8: =Sheet1!AC32 -> - | F8: =Sheet1!AC40 -> - | G8: =Sheet1!#REF! -> #REF!
B9: =Sheet1!AC9 -> - | C9: =Sheet1!AC17 -> - | D9: =Sheet1!AC25 | E9: =Sheet1!AC33 -> - | F9: =Sheet1!AC41 -> - | G9: =Sheet1!#REF! -> #REF!
A10: 7-8 | B10: =Sheet1!AC10 -> - | C10: =Sheet1!AC18 -> - | D10: =Sheet1!AC26 -> - | E10: =Sheet1!AC34 -> - | F10: =Sheet1!AC42 -> - | G10: =Sheet1!#REF! -> #REF!
B11: =Sheet1!AC11 -> - | C11: =Sheet1!AC19 -> - | D11: =Sheet1!AC27 -> - | E11: =Sheet1!AC35 -> - | F11: =Sheet1!AC43 -> - | G11: =Sheet1!#REF! -> #REF!
A12: 晚自习

Sheet 宏博楼515
A1: 宏博楼515
A2: =Sheet1!M2 -> （2024至2025学年第2学期） 第3周
B3: 星期一 | C3: 星期二 | D3: 星期三 | E3: 星期四 | F3: 星期五
A4: 1-2 | B4: =Sheet1!AD4 -> - | C4: =Sheet1!AD12 -> 通信2402 | D4: =Sheet1!AD20 -> 通信2301 | E4: =Sheet1!AD28 -> 通信2402 | F4: =Sheet1!AD36 -> 通信2301
B5: =Sheet1!AD5 -> - | C5: =Sheet1!AD13 -> 王琰 | D5: =Sheet1!AD21 -> 郑莹 | E5: =Sheet1!AD29 -> 王琰 | F5: =Sheet1!AD37 -> 管宇
A6: 3-4 | B6: =Sheet1!AD6 -> - | C6: =Sheet1!AD14 -> 通信2301 | D6: =Sheet1!AD22 -> 通信2302 | E6: =Sheet1!AD30 -> - | F6: =Sheet1!AD38 -> 通信2301
B7: =Sheet1!AD7 -> - | C7: =Sheet1!AD15 -> 管宇 | D7: =Sheet1!AD23 -> 郑莹 | E7: =Sheet1!AD31 -> - | F7: =Sheet1!AD39 -> 郑莹
A8: 5-6 | B8: =Sheet1!AD8 -> 通信2401 | C8: =Sheet1!AD16 -> 通信2302 | D8: =Sheet1!AD24 -> - | E8: =Sheet1!AD32 -> 通信2302 | F8: =Sheet1!AD40 -> -
B9: =Sheet1!AD9 -> 王琰 | C9: =Sheet1!AD17 -> 郑莹 | D9: =Sheet1!AD25 -> - | E9: =Sheet1!AD33 -> 顾雪韵 | F9: =Sheet1!AD41 -> -
A10: 7-8 | B10: =Sheet1!AD10 -> - | C10: =Sheet1!AD18 -> - | D10: =Sheet1!AD26 -> - | E10: =Sheet1!AD34 -> - | F10: =Sheet1!AD42 -> -
B11: =Sheet1!AD11 -> - | C11: =Sheet1!AD19 -> - | D11: =Sheet1!AD27 -> - | E11: =Sheet1!AD35 -> - | F11: =Sheet1!AD43 -> -
A12: 晚自习

Sheet 宏博楼519
A1: 宏博楼519
A2: =Sheet1!M2 -> （2024至2025学年第2学期） 第3周
B3: 星期一 | C3: 星期二 | D3: 星期三 | E3: 星期四 | F3: 星期五
A4: 1-2 | B4: =Sheet1!AE4 -> 通信2402 | C4: =Sheet1!AE12 -> 通信2301 | D4: =Sheet1!AE20 -> 通信2302 | E4: =Sheet1!AE28 -> 道路检测2402 | F4: =Sheet1!AE36 -> 通信2302
B5: =Sheet1!AE5 -> 顾雪韵 | C5: =Sheet1!AE13 -> 雷小燕 | D5: =Sheet1!AE21 -> 管宇 | E5: =Sheet1!AE29 -> 张超 | F5: =Sheet1!AE37 -> 雷小燕
A6: 3-4 | B6: =Sheet1!AE6 -> - | C6: =Sheet1!AE14 -> 通信2302 | D6: =Sheet1!AE22 -> 通信2401 | E6: =Sheet1!AE30 -> 空乘2402 | F6: =Sheet1!AE38 -> 通信2302
B7: =Sheet1!AE7 -> - | C7: =Sheet1!AE15 -> 雷小燕 | D7: =Sheet1!AE23 -> 王琰 | E7: =Sheet1!AE31 -> 张延年 | F7: =Sheet1!AE39 -> 管宇
A8: 5-6 | B8: =Sheet1!AE8 -> 通信2301 | C8: =Sheet1!AE16 -> 汽车营销2402 | D8: =Sheet1!AE24 -> - | E8: =Sheet1!AE32 -> 通信2301 | F8: =Sheet1!AE40 -> 汽车营销2402
B9: =Sheet1!AE9 -> 顾雪韵 | C9: =Sheet1!AE17 -> 雷小燕 | D9: =Sheet1!AE25 -> - | E9: =Sheet1!AE33 -> 雷小燕 | F9: =Sheet1!AE41 -> 雷小燕
A10: 7-8 | B10: =Sheet1!AE10 -> - | C10: =Sheet1!AE18 -> - | D10: =Sheet1!AE26 -> - | E10: =Sheet1!AE34 -> - | F10: =Sheet1!AE42 -> -
B11: =Sheet1!AE11 -> - | C11: =Sheet1!AE19 -> - | D11: =Sheet1!AE27 -> - | E11: =Sheet1!AE35 -> - | F11: =Sheet1!AE43 -> -
A12: 晚自习
